BEGIN:VCALENDAR
VERSION:2.0
PRODID:-//Emma &amp; Co. – die Theaterwerkstatt - ECPv6.8.0//NONSGML v1.0//EN
CALSCALE:GREGORIAN
METHOD:PUBLISH
X-ORIGINAL-URL:https://emma-und-co.de
X-WR-CALDESC:Veranstaltungen für Emma &amp; Co. – die Theaterwerkstatt
REFRESH-INTERVAL;VALUE=DURATION:PT1H
X-Robots-Tag:noindex
X-PUBLISHED-TTL:PT1H
BEGIN:VTIMEZONE
TZID:Europe/Berlin
BEGIN:DAYLIGHT
TZOFFSETFROM:+0100
TZOFFSETTO:+0200
TZNAME:CEST
DTSTART:20220327T010000
END:DAYLIGHT
BEGIN:STANDARD
TZOFFSETFROM:+0200
TZOFFSETTO:+0100
TZNAME:CET
DTSTART:20221030T010000
END:STANDARD
END:VTIMEZONE
BEGIN:VEVENT
DTSTART;TZID=Europe/Berlin:20220522T160000
DTEND;TZID=Europe/Berlin:20220522T160000
DTSTAMP:20260422T125608
CREATED:20220422T103441Z
LAST-MODIFIED:20220503T162456Z
UID:2501-1653235200-1653235200@emma-und-co.de
SUMMARY:Jede Liebesgeschichte ist eine Geistergeschichte
DESCRIPTION:Mit Peter H.E. GogolinJede Lie­bes­ge­schich­te ist eine GeistergeschichteIn sei­nem Buch mit phan­tas­ti­schen Erzäh­lun­gen »Isol­des Lieb­ha­ber« schreibt Peter H. E. Gogo­lin von der Brü­chig­keit unse­rer Rea­li­tät und aller ver­meint­li­chen Gewiss­hei­ten. »Mei­ne Geschich­ten sind aus Lie­be geschrie­ben«\, sagt er\, »aus Ver­gnü­gen\, aus Lust\, mit­un­ter sogar aus gehei­mer Wol­lust. Es ist mei­ne phan­tas­ti­sche Sei­te\, die sich hier zeigt. Die Sei­te\, mit der für mich die Lite­ra­tur begann\, in die ich mich sofort ver­lieb­te und die mich von Kin­des­bei­nen an nicht mehr los­ge­las­sen hat. Wobei ich ergän­zen muss\, dass eine sol­che Lie­bes­be­zie­hung zur Lite­ra­tur sich nicht ent­wi­ckeln kann\, wenn man rea­lis­ti­sche Stan­dard­ro­ma­ne liest. Das geht nur mit der Lite­ra­tur der Phantastik.« \nTicket­preis: 5\,- €Tickets reser­vie­renEine Vor­anmel­dung ist auf­grund der Platz­li­mi­tie­rung erfor­der­lich. Bit­te infor­mie­ren Sie sich auf unse­rer Home­page über die an die­sem Tag gül­ti­gen Coro­na-Hygie­ne­re­geln. Danke. \nWir bedan­ken uns für die freund­li­che Unter­stüt­zung des Kul­tur­am­tes Wiesbaden. Emma — die Theaterwerkstatt\nNEU Blü­cher­platz 3\, Wiesbaden WEG­PLA­NER
URL:https://emma-und-co.de/veranstaltungen/jede-liebesgeschichte-ist-eine-geistergeschichte/
LOCATION:Emma & Co. – die Theaterwerkstatt\, Goebenstraße 19\, Wiesbaden\, 65195\, Deutschland
ATTACH;FMTTYPE=image/jpeg:https://emma-und-co.de/wp-content/uploads/Emma_Veranstaltungsbild_Gogolin.jpg
ORGANIZER;CN="Emma & Co.":MAILTO:kontakt@emma-und-co.de
END:VEVENT
END:VCALENDAR