BEGIN:VCALENDAR
VERSION:2.0
PRODID:-//Emma &amp; Co. – die Theaterwerkstatt - ECPv6.8.0//NONSGML v1.0//EN
CALSCALE:GREGORIAN
METHOD:PUBLISH
X-WR-CALNAME:Emma &amp; Co. – die Theaterwerkstatt
X-ORIGINAL-URL:https://emma-und-co.de
X-WR-CALDESC:Veranstaltungen für Emma &amp; Co. – die Theaterwerkstatt
REFRESH-INTERVAL;VALUE=DURATION:PT1H
X-Robots-Tag:noindex
X-PUBLISHED-TTL:PT1H
BEGIN:VTIMEZONE
TZID:Europe/Berlin
BEGIN:DAYLIGHT
TZOFFSETFROM:+0100
TZOFFSETTO:+0200
TZNAME:CEST
DTSTART:20220327T010000
END:DAYLIGHT
BEGIN:STANDARD
TZOFFSETFROM:+0200
TZOFFSETTO:+0100
TZNAME:CET
DTSTART:20221030T010000
END:STANDARD
END:VTIMEZONE
BEGIN:VEVENT
DTSTART;TZID=Europe/Berlin:20220702T170000
DTEND;TZID=Europe/Berlin:20220706T183000
DTSTAMP:20260422T095503
CREATED:20220606T134136Z
LAST-MODIFIED:20220606T140506Z
UID:2660-1656781200-1657132200@emma-und-co.de
SUMMARY:Hommage auf die Frauen
DESCRIPTION:CORON-ARTS FES­TI­VAL #1\nKul­tur­fes­ti­val im KUL­TUR­PARK & KESSELHAUSMode­riert und insze­niert von Emma & CoHom­mage auf die FrauenDie Frau – ein mys­te­riö­ses Wesen? Rät­sel­haft und undurch­sich­tig? Nix da! Wir bre­chen mit all den Kli­schees und alter­tüm­li­chen Vor­ur­tei­len und zei­gen was in uns Frau­en wirk­lich steckt! An die­sem Abend wird die Frau\, das frem­de und doch so ver­trau­te Wesen gefeiert. \nDie­ser facet­ten­rei­che Abend ist wie die Frau­en selbst: unter­halt­sam\, ernst­haft\, bewe­gend\, humor­voll. Von Frau­en. Für Frau­en. Also für alle\, die sich als Frau iden­ti­fi­zie­ren. Und natür­lich für alle ande­ren\, die die Wahr­heit vertragen. \nMit Bar­ba­ra Haker\, Nora Kühn­lein\, Bea­te Krist und Han­nah Dickescheid \nEin­tritt: frei!Coro­nArt-Fes­ti­valCORON-ARTS FESTIVAL#1\nKul­tur­fes­ti­val \nim KUL­TUR­PARK & KESSELHAUS
URL:https://emma-und-co.de/veranstaltungen/hommage-auf-die-frauen-coronarts-festival/
ATTACH;FMTTYPE=image/jpeg:https://emma-und-co.de/wp-content/uploads/Emma_Veranstaltungsbild_Hommage-auf-die-Frauen.jpg
END:VEVENT
END:VCALENDAR