BEGIN:VCALENDAR
VERSION:2.0
PRODID:-//Emma &amp; Co. – die Theaterwerkstatt - ECPv6.8.0//NONSGML v1.0//EN
CALSCALE:GREGORIAN
METHOD:PUBLISH
X-ORIGINAL-URL:https://emma-und-co.de
X-WR-CALDESC:Veranstaltungen für Emma &amp; Co. – die Theaterwerkstatt
REFRESH-INTERVAL;VALUE=DURATION:PT1H
X-Robots-Tag:noindex
X-PUBLISHED-TTL:PT1H
BEGIN:VTIMEZONE
TZID:Europe/Berlin
BEGIN:DAYLIGHT
TZOFFSETFROM:+0100
TZOFFSETTO:+0200
TZNAME:CEST
DTSTART:20220327T010000
END:DAYLIGHT
BEGIN:STANDARD
TZOFFSETFROM:+0200
TZOFFSETTO:+0100
TZNAME:CET
DTSTART:20221030T010000
END:STANDARD
END:VTIMEZONE
BEGIN:VEVENT
DTSTART;TZID=Europe/Berlin:20220709T110000
DTEND;TZID=Europe/Berlin:20220709T200000
DTSTAMP:20260422T100046
CREATED:20220531T101429Z
LAST-MODIFIED:20220531T125204Z
UID:2604-1657364400-1657396800@emma-und-co.de
SUMMARY:Kleinode im Westend entdecken 2022
DESCRIPTION:Wir sind dabei:Klein­ode West­end entdeckenEmma & Co — die Thea­ter­werk­statt öff­net ihre Türen — ein Tag vol­ler Aus­schnit­te aus unse­ren Insze­nie­run­gen\, Fil­me\, Fotos und Lesun­gen. Für Kin­der gibt es Lesun­gen und Mit­mach­ak­tio­nen. Der Abend über­rascht mit einem neu­en For­mat und vie­len Gäs­ten. Kommt und ent­deckt Emma & Co. \nEin­tritt freiWeb­site besuchenEmma & Corona\nEure Gesund­heit und die unse­rer Künstler*innen hat immer noch für uns obers­te Prio­ri­tät. Des­halb hal­ten wir wei­ter­hin die fol­gen­den Hygie­ne-Regeln als unerlässlich. \nFür die Teil­nah­me an unse­ren Work­shops gilt: Ihr bringt die Beschei­ni­gung eines tages­ak­tu­el­len Tests mit\, ODER Ihr bekommt für eine klei­ne Spen­de von uns einen Schnell­test\, ODER Ihr bringt einen eige­nen Schnell­test mit\, den Ihr hier vor dem Ein­lass (bit­te 15 Min War­te­zeit ein­kal­ku­lie­ren) durchführt. \nFür die Besu­che unse­rer Werk­statt­ein­bli­cke gilt:\n> Ihr tragt eine FFP2-Mas­ke oder eine medi­zi­ni­sche Maske\n> Ihr bringt die Beschei­ni­gung eines tages­ak­tu­el­len Tests mit\, ODER Ihr bekommt für eine klei­ne Spen­de von uns einen Schnell­test\, ODER Ihr bringt einen eige­nen Schnell­test mit\, den Ihr hier vor dem Ein­lass (bit­te 15 Min War­te­zeit ein­kal­ku­lie­ren) durchführt. \n\nEmma — die Theaterwerkstatt\nNEU Blü­cher­platz 3\, Wiesbaden WEG­PLA­NER
URL:https://emma-und-co.de/veranstaltungen/kleinode-im-westend-entdecken-2022/
LOCATION:Emma & Co. – die Theaterwerkstatt\, Goebenstraße 19\, Wiesbaden\, 65195\, Deutschland
ATTACH;FMTTYPE=image/jpeg:https://emma-und-co.de/wp-content/uploads/Emma_Kleinode22.jpg
ORGANIZER;CN="Emma & Co.":MAILTO:kontakt@emma-und-co.de
END:VEVENT
END:VCALENDAR