BEGIN:VCALENDAR
VERSION:2.0
PRODID:-//Emma &amp; Co. – die Theaterwerkstatt - ECPv6.8.0//NONSGML v1.0//EN
CALSCALE:GREGORIAN
METHOD:PUBLISH
X-ORIGINAL-URL:https://emma-und-co.de
X-WR-CALDESC:Veranstaltungen für Emma &amp; Co. – die Theaterwerkstatt
REFRESH-INTERVAL;VALUE=DURATION:PT1H
X-Robots-Tag:noindex
X-PUBLISHED-TTL:PT1H
BEGIN:VTIMEZONE
TZID:Europe/Berlin
BEGIN:DAYLIGHT
TZOFFSETFROM:+0100
TZOFFSETTO:+0200
TZNAME:CEST
DTSTART:20220327T010000
END:DAYLIGHT
BEGIN:STANDARD
TZOFFSETFROM:+0200
TZOFFSETTO:+0100
TZNAME:CET
DTSTART:20221030T010000
END:STANDARD
END:VTIMEZONE
BEGIN:VEVENT
DTSTART;TZID=Europe/Berlin:20221218T110000
DTEND;TZID=Europe/Berlin:20221218T110000
DTSTAMP:20260422T031342
CREATED:20221128T202357Z
LAST-MODIFIED:20221130T153706Z
UID:3150-1671361200-1671361200@emma-und-co.de
SUMMARY:Hulla und das Wald-Klang-Meer
DESCRIPTION:Emmas Werk­statt­ein­bli­cke — Eine WiesbadenpremiereHul­la und das Wald-Klang-MeerFür Kin­der von 1 — 3 JahrenAm Hori­zont der grau­en Vorzeit\,\nwo der Him­mel und die Erde sich begegnen\,\nbummt das Universum\,\nhebt und webt das Meer …\n… genau da ent­steht Hul­la — das klei­ne Wald­we­sen — sie nimmt Euch mit auf eine Rei­se. Eine Rei­se durch den Wald auf der Suche nach einem Ort zum Wachsen.Sie begeg­net den Tie­ren des Wal­des und lauscht den Klän­gen der Natur. Und eines Tages ist sie so groß und stark gewor­den\, dass sie eine neue klei­ne Hul­la auf den Weg schi­cken kann. Komm mit und tau­che ein in Hul­las zau­ber­haf­te Welt! \nHul­la und das Wald-Klang-Meer ist eine sinn­li­che Erleb­nis­rei­se zu Wald und Meer für Kin­der unter 4 Jah­ren. Sie kön­nen Klän­ge und Mate­ria­li­en aus Wald und Meer sinn­lich erfah­ren und selbst erfor­schen. Unse­re Wald­fi­gur Hul­la lei­tet durch das Stück und beglei­tet die Kin­der durch den klin­gen­den Wald und das wil­de Meer.  \nEine Pro­duk­ti­on des Thea­ter 3D und theaterneuland. \nEs spie­len: Bea­te Krist\, Ron­ja Schwei­kert\, Emi­li­en Tru­che (Figu­ren­spiel) und Ste­fan Ehlen (Musik)\nRegie: Ulri­ke Hanne\nAus­stat­tung: Susann Tonne \nGeför­dert von der Stadt Wies­ba­den und dem Fonds dar­stel­len­de Künste. \n(Foto Thea­ter 3D) \nEin­tritt: FreiWir bit­ten die Besucher*innen sich vor­her zu tes­ten. Wer an Coro­na oder irgend­wie anders anste­ckend erkrankt ist\, bleibt bit­te Zuhause.So 18.12.2022 // ab 11 UhrEmma & Co – die Theaterwerkstatt\,\nGoe­ben­stra­ße 19 Hin­ter­haus\, Wiesbaden
URL:https://emma-und-co.de/veranstaltungen/hulla-und-das-wald-klang-meer/
LOCATION:Emma & Co. – die Theaterwerkstatt\, Goebenstraße 19\, Wiesbaden\, 65195\, Deutschland
ATTACH;FMTTYPE=image/jpeg:https://emma-und-co.de/wp-content/uploads/Emma_Veranstaltungsbild_2022_Hulla.jpg
END:VEVENT
END:VCALENDAR