BEGIN:VCALENDAR
VERSION:2.0
PRODID:-//Emma &amp; Co. – die Theaterwerkstatt - ECPv6.8.0//NONSGML v1.0//EN
CALSCALE:GREGORIAN
METHOD:PUBLISH
X-ORIGINAL-URL:https://emma-und-co.de
X-WR-CALDESC:Veranstaltungen für Emma &amp; Co. – die Theaterwerkstatt
REFRESH-INTERVAL;VALUE=DURATION:PT1H
X-Robots-Tag:noindex
X-PUBLISHED-TTL:PT1H
BEGIN:VTIMEZONE
TZID:Europe/Berlin
BEGIN:DAYLIGHT
TZOFFSETFROM:+0100
TZOFFSETTO:+0200
TZNAME:CEST
DTSTART:20230326T010000
END:DAYLIGHT
BEGIN:STANDARD
TZOFFSETFROM:+0200
TZOFFSETTO:+0100
TZNAME:CET
DTSTART:20231029T010000
END:STANDARD
END:VTIMEZONE
BEGIN:VEVENT
DTSTART;TZID=Europe/Berlin:20230107T150000
DTEND;TZID=Europe/Berlin:20230107T170000
DTSTAMP:20260422T015816
CREATED:20221130T114149Z
LAST-MODIFIED:20221130T153459Z
UID:3202-1673103600-1673110800@emma-und-co.de
SUMMARY:EMMAS Theater-Flohmarkt
DESCRIPTION:EMMAS Thea­ter-Floh­marktNach­dem der ers­te Thea­ter-Floh­markt im Okto­ber so gut besucht war\, fin­den sich wie­der Ensem­bles und Künstler*innen der frei­en Sze­ne zusam­men und bie­ten ihre Kos­tü­me\, Fun­dus-Stü­cke und Requi­si­ten aus ver­gan­ge­nen Pro­duk­tio­nen und Ver­an­stal­tun­gen an. Hier gibt es das eine oder ande­re Schnäpp­chen gegen eine Spen­de. Wie es sich für einen klas­si­schen Floh­markt gehört\, gibt es natür­lich Kaf­fee und Kuchen. Und ein schö­nes Beisammensein.Anmel­dung der Künstler*innen für einen Floh­markt­tisch in der Emma: Stand­ge­bühr ein Kuchen und 10 € für die Emma. Bit­te bis zum 15.12.2022 unter tickets@emma-und-co.deWir bit­ten die Besucher*innen sich vor­her zu tes­ten. Wer an Coro­na oder irgend­wie anders anste­ckend erkrankt ist\, bleibt bit­te Zuhause.Sa 07.01.2023 // 15–17 UhrEmma & Co – die Theaterwerkstatt\,\nGoe­ben­stra­ße 19 Hin­ter­haus\, Wiesbaden
URL:https://emma-und-co.de/veranstaltungen/emmas-theater-flohmarkt/
LOCATION:Emma & Co. – die Theaterwerkstatt\, Goebenstraße 19\, Wiesbaden\, 65195\, Deutschland
ATTACH;FMTTYPE=image/jpeg:https://emma-und-co.de/wp-content/uploads/Emma_Veranstaltungsbild_2022_Theterflohmarkt_Januar.jpg
END:VEVENT
END:VCALENDAR