BEGIN:VCALENDAR
VERSION:2.0
PRODID:-//Emma &amp; Co. – die Theaterwerkstatt - ECPv6.8.0//NONSGML v1.0//EN
CALSCALE:GREGORIAN
METHOD:PUBLISH
X-ORIGINAL-URL:https://emma-und-co.de
X-WR-CALDESC:Veranstaltungen für Emma &amp; Co. – die Theaterwerkstatt
REFRESH-INTERVAL;VALUE=DURATION:PT1H
X-Robots-Tag:noindex
X-PUBLISHED-TTL:PT1H
BEGIN:VTIMEZONE
TZID:Europe/Berlin
BEGIN:DAYLIGHT
TZOFFSETFROM:+0100
TZOFFSETTO:+0200
TZNAME:CEST
DTSTART:20230326T010000
END:DAYLIGHT
BEGIN:STANDARD
TZOFFSETFROM:+0200
TZOFFSETTO:+0100
TZNAME:CET
DTSTART:20231029T010000
END:STANDARD
END:VTIMEZONE
BEGIN:VEVENT
DTSTART;TZID=Europe/Berlin:20230129T113000
DTEND;TZID=Europe/Berlin:20230129T113000
DTSTAMP:20260422T015832
CREATED:20221128T220141Z
LAST-MODIFIED:20221204T153824Z
UID:3179-1674991800-1674991800@emma-und-co.de
SUMMARY:Die Macht der Entscheidung
DESCRIPTION:Im Rah­men der Ver­an­stal­tungs­rei­he „Erin­nern an die Opfer“ rund um den 27. Janu­ar als natio­na­ler und inter­na­tio­na­ler Tag des Geden­kens an die Opfer des NationalsozialismusVor­füh­rung des Kurz­films & GesprächDie Macht der EntscheidungAnfang der drei­ßi­ger Jah­re in Wies­ba­den: In der Berg­kir­che wird ein neu­er Pfar­rer der Deutsch-Chris­ten ein­ge­setzt\, der die wider­stän­di­ge Gemein­de spal­ten soll. Franz-Lud­wig von Ber­nus\, Pfar­rer der Beken­nen­den Kir­che\, leis­tet ihm Wider­stand. Die jun­ge frisch ver­lieb­te Else ist auf der Suche nach Arbeit. Rudi\, ihr Freund\, hat sei­ne eige­ne Vor­stel­lung von einer deut­schen Frau. Und auch Hein­rich\, ein Kon­fir­mand\, bekommt den Druck durch die poli­ti­schen Ver­än­de­run­gen zu spü­ren. Wie wer­den sie sich entscheiden?Frei­es Thea­ter Wies­ba­den pro­du­zier­te die­sen Kurz­film\, der im August 2021 an vie­len ori­gi­na­len Schau­plät­zen in der Lan­des­haupt­stadt Wies­ba­den gedreht wur­de. Basie­rend auf Augen­zeu­gen­be­rich­ten und dem über Jah­re zusam­men­ge­tra­ge­nen Recher­che­ma­te­ri­al des Berg­kir­chen­pfar­rers Mar­kus Nett soll die­ser Film das Andenken an den Wider­stand im Klei­nen bewah­ren. Er soll nicht nur erin­nern\, son­dern auch ermu­ti­gen\, aktu­ell auf rech­te Ten­den­zen und Frem­den­hass zu reagieren. \nDer Film wird in der Berg­kir­che gezeigt. Anschlie­ßend gibt es noch ein Gespräch mit der Pro­du­zen­tin und dem Team sowie einen Ein­blick in die Dreharbeiten. Pho­to­credit eye take your picture\nEine Pro­duk­ti­on von Frei­es Thea­ter Wies­ba­den e.V. \nCREW\nIdee & Pro­duk­ti­ons­lei­tung — Bar­ba­ra Haker\nRegie — Anton Algrang\nDreh­buch — Bar­ba­ra Haker & Anton Algrang\nBild­ge­stal­tung — Till Christmann\nFilm­mu­sik — Rapha­el Fimm\nSchnitt — Alex­an­der Krämer-Göbel\nSet­Ton — Det­lev Schmel­zen­bach\, Roland Rebscher\nAus­stat­tung — Lena Eli­sa Dinse \nCAST\nPfar­rer von Ber­nus — Chris­ti­an Klischat\nElse Bing — Maria Leidert\nPfar­rer Born­gäs­ser — Chris­toph Gérard Stein\nRudolf Ber­ger — David Rothe\nHein­rich Mör­tel — Chris­ti­an Sattler\nMade­lei­ne von Ber­nus — Bar­ba­ra Haker\nu.v.m. \nAus­ge­zeich­net durch „kul­tur­Mut“ – die Crowd­fun­ding-Platt­form von Aven­tis Foun­da­ti­on und Kul­tur­fonds Frank­furt Rhein­Main. Der Film wur­de geför­dert durch das Kul­tur­amt der Lan­des­haupt­stadt Wies­ba­den und der Nas­pa Stiftung. \nDer Ein­tritt ist frei.Wir bit­ten die Besucher*innen sich vor­her zu tes­ten. Wer an Coro­na oder irgend­wie anders anste­ckend erkrankt ist\, bleibt bit­te Zuhause.\nSo 29.01.2023 // 11:30 Uhr Berg­kir­che Wies­ba­den\, Lehr­stra­ße 6
URL:https://emma-und-co.de/veranstaltungen/die-macht-der-entscheidung/
ATTACH;FMTTYPE=image/jpeg:https://emma-und-co.de/wp-content/uploads/Emma_Veranstaltungsbild_Die_Macht_der_Entscheidung2022.jpg
END:VEVENT
END:VCALENDAR