BEGIN:VCALENDAR
VERSION:2.0
PRODID:-//Emma &amp; Co. – die Theaterwerkstatt - ECPv6.8.0//NONSGML v1.0//EN
CALSCALE:GREGORIAN
METHOD:PUBLISH
X-WR-CALNAME:Emma &amp; Co. – die Theaterwerkstatt
X-ORIGINAL-URL:https://emma-und-co.de
X-WR-CALDESC:Veranstaltungen für Emma &amp; Co. – die Theaterwerkstatt
REFRESH-INTERVAL;VALUE=DURATION:PT1H
X-Robots-Tag:noindex
X-PUBLISHED-TTL:PT1H
BEGIN:VTIMEZONE
TZID:Europe/Berlin
BEGIN:DAYLIGHT
TZOFFSETFROM:+0100
TZOFFSETTO:+0200
TZNAME:CEST
DTSTART:20230326T010000
END:DAYLIGHT
BEGIN:STANDARD
TZOFFSETFROM:+0200
TZOFFSETTO:+0100
TZNAME:CET
DTSTART:20231029T010000
END:STANDARD
END:VTIMEZONE
BEGIN:VEVENT
DTSTART;TZID=Europe/Berlin:20230308T150000
DTEND;TZID=Europe/Berlin:20230312T220000
DTSTAMP:20260421T230208
CREATED:20230201T124927Z
LAST-MODIFIED:20230301T154325Z
UID:3355-1678287600-1678658400@emma-und-co.de
SUMMARY:Emma pur — Alexa Sommer
DESCRIPTION:Foto­aus­stel­lung Ale­xa SommerEMMA purDurch­ge­hendAle­xa Som­mer zeigt Bil­der der Kul­tur­schaf­fen­den\, die bei Emma & Co aktiv sind. Wer sind die Men­schen von Emma & Co? \n \nAle­xa Som­mer ist selbst­stän­di­ge Foto­gra­fin\, die sich seit 10 Jah­ren in der frei­en Thea­ter Sze­ne in Wies­ba­den enga­giert und auch für die Schul­thea­ter Tage des Staats­thea­ters Wies­ba­den arbei­tet. Mit ihrer Kame­ra beglei­tet sie bereits sei vie­len Jah­ren meh­re­re Thea­ter-Ensem­bles und Schau­spie­len­de der frei­en Szene. Mar­leenim Lili — Bahn­hofs­platz 3\, 65189 WiesbadenEin­tritt FreiWir wer­den unter­stützt durch
URL:https://emma-und-co.de/veranstaltungen/emma-pur-alexa-sommer/
CATEGORIES:Aus-Brueche,Durchgehend
ATTACH;FMTTYPE=image/jpeg:https://emma-und-co.de/wp-content/uploads/AusBrueche_Events_01-3-scaled.jpg
ORGANIZER;CN="Emma & Co.":MAILTO:kontakt@emma-und-co.de
END:VEVENT
BEGIN:VEVENT
DTSTART;TZID=Europe/Berlin:20230308T150000
DTEND;TZID=Europe/Berlin:20230312T220000
DTSTAMP:20260421T230208
CREATED:20230207T100525Z
LAST-MODIFIED:20230207T141514Z
UID:3445-1678287600-1678658400@emma-und-co.de
SUMMARY:Kurzfilmkino Rhein-Main
DESCRIPTION:Kurz­fil­meFilmemacher*innen aus der RegionKurz­film­ki­no Rhein-MainDurch­ge­hendAus/ Brü­che stellt die­se direk­te Begeg­nung mit Kino ins Zen­trum. In the­ma­ti­schen Blö­cken wer­den Kurz­fil­me von Filmemacher*innen aus der Regi­on dem Publi­kum zugäng­lich gemacht\, dass über 4 Tage einen Publi­kums­preis ver­ge­ben kann. \nMar­leenim Lili — Bahn­hofs­platz 3\, 65189 WiesbadenEin­tritt FreiWir wer­den unter­stützt durch
URL:https://emma-und-co.de/veranstaltungen/kurzfilmkino-rhein-main/
CATEGORIES:Aus-Brueche,Durchgehend
ATTACH;FMTTYPE=image/jpeg:https://emma-und-co.de/wp-content/uploads/AusBrueche_Events_01-1.jpg
ORGANIZER;CN="Emma & Co.":MAILTO:kontakt@emma-und-co.de
END:VEVENT
BEGIN:VEVENT
DTSTART;TZID=Europe/Berlin:20230312T130000
DTEND;TZID=Europe/Berlin:20230312T130000
DTSTAMP:20260421T230208
CREATED:20230301T114328Z
LAST-MODIFIED:20230311T180319Z
UID:3552-1678626000-1678626000@emma-und-co.de
SUMMARY:--- Abgesagt --- Platz da! Lasst uns reden.
DESCRIPTION:Podi­ums­dis­kus­si­on Freie Szene Kunst­schaf­fen­de aus der RegionAbge­sagt: Platz da! Lasst uns reden. // Dafür läuft unser Kurz­film­ki­no um 13 Uhr — letz­te Chan­ce für Euch Eure Stim­me abzugeben! Sonn­tag12.03.23 um 13:00 Uhr— Lei­der muss­ten wir die­se Ver­an­stal­tun­gen absagen.— \nKünstler*innen der frei­en Sze­ne des Rhein-Main-Gebie­tes spre­chen über die Lage der frei­en Sze­ne und stel­len sich den aktu­el­len Fra­gen. Gäst*innen\, Mode­ra­ti­on und The­men­schwer­punkt wer­den noch bekannt gegeben. Wer ist das über­haupt? In vie­len Dis­kus­sio­nen und Work­shops wird immer wie­der die „Freie Sze­ne“ benannt. Aber – wer ist das über­haupt und wer gehört dazu? Was hat sich durch Coro­na ver­än­dert? Und wie sehen die Arbeits­be­din­gun­gen der­zeit aus? \nPodi­ums­dis­kus­si­on mit Künstler*innen der frei­en Sze­ne des Rhein Main Gebietes \nMar­leenim Lili — Bahn­hofs­platz 3\, 65189 WiesbadenEin­tritt FreiWir wer­den unter­stützt durch
URL:https://emma-und-co.de/veranstaltungen/platz-da-lasst-uns-reden-podiumsdiskussion-freie-szene/
CATEGORIES:Aus-Brueche,Sonntag
ATTACH;FMTTYPE=image/jpeg:https://emma-und-co.de/wp-content/uploads/AusBrueche_Events_16-scaled.jpg
ORGANIZER;CN="Emma & Co.":MAILTO:kontakt@emma-und-co.de
END:VEVENT
BEGIN:VEVENT
DTSTART;TZID=Europe/Berlin:20230312T153000
DTEND;TZID=Europe/Berlin:20230312T153000
DTSTAMP:20260421T230208
CREATED:20230207T141051Z
LAST-MODIFIED:20230301T114025Z
UID:3448-1678635000-1678635000@emma-und-co.de
SUMMARY:Kurzfilmkino Rhein Main Verleihung des Publikumspreises
DESCRIPTION:Preis­ver­lei­hungFilmemacher*innen aus der RegionKurz­film­ki­no Rhein Main — Ver­lei­hung des Publikumspreises Sonn­tag12.03.23 um 15:30 UhrDas Publi­kum stimmt wäh­rend des Fes­ti­vals für einen Publi­kums­preis ab. Heu­te fei­ern die Betei­lig­ten der Film­pro­duk­tio­nen und das Publi­kum gemein­sam das Kino. \nMar­leenim Lili — Bahn­hofs­platz 3\, 65189 WiesbadenEin­tritt FreiWir wer­den unter­stützt durch
URL:https://emma-und-co.de/veranstaltungen/kurzfilmkino-rhein-main-verleihung-des-publikumspreises/
CATEGORIES:Aus-Brueche,Sonntag
ATTACH;FMTTYPE=image/jpeg:https://emma-und-co.de/wp-content/uploads/AusBrueche_Events_012-1.jpg
ORGANIZER;CN="Emma & Co.":MAILTO:kontakt@emma-und-co.de
END:VEVENT
BEGIN:VEVENT
DTSTART;TZID=Europe/Berlin:20230312T160000
DTEND;TZID=Europe/Berlin:20230312T160000
DTSTAMP:20260421T230208
CREATED:20230301T115101Z
LAST-MODIFIED:20230301T154018Z
UID:3555-1678636800-1678636800@emma-und-co.de
SUMMARY:WIDERSTAND & Die Macht der Entscheidung
DESCRIPTION:Sze­ni­sche Lesung & Film Frei­es Thea­ter Wiesbaden WIDER­STAND & Die Macht der Entscheidung Sonn­tag12.03.23 um 16:00 UhrDie bei­den Schau­spie­le­rin­nen lesen Sze­nen und Mono­lo­ge aus dem Thea­ter­stück WIDERSTAND. \nDer Kurz­film beleuch­tet viel­schich­tig und dif­fe­ren­ziert das Enga­ge­ment der Men­schen in und um die Berg­kir­che und die Beken­nen­de Kir­che in Wies­ba­den. Er zeigt ihre per­sön­li­chen Schick­sa­le vor dem Beginn des Zwei­ten Weltkrieges. \n  Mar­leenim Lili — Bahn­hofs­platz 3\, 65189 WiesbadenEin­tritt FreiWir wer­den unter­stützt durch
URL:https://emma-und-co.de/veranstaltungen/widerstand-die-macht-der-entscheidung/
CATEGORIES:Aus-Brueche,Sonntag
ATTACH;FMTTYPE=image/jpeg:https://emma-und-co.de/wp-content/uploads/AusBrueche_Events_17-scaled.jpg
ORGANIZER;CN="Emma & Co.":MAILTO:kontakt@emma-und-co.de
END:VEVENT
BEGIN:VEVENT
DTSTART;TZID=Europe/Berlin:20230312T193000
DTEND;TZID=Europe/Berlin:20230312T193000
DTSTAMP:20260421T230208
CREATED:20230301T115139Z
LAST-MODIFIED:20230301T154137Z
UID:3558-1678649400-1678649400@emma-und-co.de
SUMMARY:Der unsichtbare Teil von uns
DESCRIPTION:Eine Lesung\, unterstützt durch Kla­vier & Gesang mit anschlie­ßen­der Diskussion Reds­loth Production Der unsicht­ba­re Teil von uns Sonn­tag12.03.23 um 19:30 UhrEin zen­tra­ler Aspekt der Geschich­te Wies­ba­dens am kon­kre­ten Schick­sal der inter­nier­ten Men­schen »Unter den Eichen« wird auf­ge­zeigt. Eine offe­ne Erzäh­lung\, die dem Anspruch geschicht­li­cher Nähe zu den Prot­ago­nist* innen gerecht zu wer­den ver­sucht\, ohne sich dabei in loka­len Bezügen zu verlieren. In fünf Tei­len wird ein zen­tra­ler Aspekt der Geschich­te Wies­ba­dens am kon­kre­ten Schick­sal der inter­nier­ten Men­schen ‚Unter den Eichen’ auf­ge­zeigt. Ein Blick über die Stadt­gren­zen hin­aus ist dabei uner­läss­lich\, um ein­zu­ord­nen\, wel­che Funk­ti­on die Lan­des­haupt­stadt auf der Makro­ebe­ne des Staa­tes ein­ge­nom­men hat. Größ­ten­teils wird dabei auf pri­mä­re Quel­len zurück­ge­grif­fen\, wel­che im Lau­fe des Erin­ne­rungs­ver­suchs immer wie­der durch his­to­ri­sche Ein­ord­nun­gen kon­tex­tua­li­siert wer­den. So ent­steht eine offe­ne Erzäh­lung\, die dem Anspruch geschicht­li­cher Nähe zu den Protagonist*innen gerecht zu wer­den ver­sucht\, ohne sich dabei in loka­len Bezü­gen zu ver­lie­ren. Die Ana­ly­se und das Sich-Ein­las­sen auf indi­vi­du­el­le Erleb­nis­se soll sich hier mit der Abs­trak­ti­on der Gesamt­heit des Natio­nal­so­zia­lis­mus verschränken. \nMar­leenim Lili — Bahn­hofs­platz 3\, 65189 WiesbadenEin­tritt FreiWir wer­den unter­stützt durch
URL:https://emma-und-co.de/veranstaltungen/der-unsichtbare-teil-von-uns/
CATEGORIES:Aus-Brueche,Sonntag
ATTACH;FMTTYPE=image/jpeg:https://emma-und-co.de/wp-content/uploads/AusBrueche_Events_18-scaled.jpg
ORGANIZER;CN="Emma & Co.":MAILTO:kontakt@emma-und-co.de
END:VEVENT
END:VCALENDAR