BEGIN:VCALENDAR
VERSION:2.0
PRODID:-//Emma &amp; Co. – die Theaterwerkstatt - ECPv6.8.0//NONSGML v1.0//EN
CALSCALE:GREGORIAN
METHOD:PUBLISH
X-WR-CALNAME:Emma &amp; Co. – die Theaterwerkstatt
X-ORIGINAL-URL:https://emma-und-co.de
X-WR-CALDESC:Veranstaltungen für Emma &amp; Co. – die Theaterwerkstatt
REFRESH-INTERVAL;VALUE=DURATION:PT1H
X-Robots-Tag:noindex
X-PUBLISHED-TTL:PT1H
BEGIN:VTIMEZONE
TZID:Europe/Berlin
BEGIN:DAYLIGHT
TZOFFSETFROM:+0100
TZOFFSETTO:+0200
TZNAME:CEST
DTSTART:20230326T010000
END:DAYLIGHT
BEGIN:STANDARD
TZOFFSETFROM:+0200
TZOFFSETTO:+0100
TZNAME:CET
DTSTART:20231029T010000
END:STANDARD
END:VTIMEZONE
BEGIN:VEVENT
DTSTART;TZID=Europe/Berlin:20230416T110000
DTEND;TZID=Europe/Berlin:20230416T130000
DTSTAMP:20260421T213033
CREATED:20230331T123647Z
LAST-MODIFIED:20230331T132501Z
UID:3657-1681642800-1681650000@emma-und-co.de
SUMMARY:LA MOVE.
DESCRIPTION:LA MOVE.Tanz Kör­per SelbstwirksamkeitWork­shop­rei­he für FrauenMöch­test Du dich im Tanz ent­de­cken\, etwas Neu­es über dich erfah­ren und dei­neLebens­er­fah­run­gen mit ande­ren tei­len?LA MOVE ist eine Pra­xis des gemein­sa­men Tan­zens\, Bewe­gens\, Zuhö­rens\, Erzäh­lens und krea­ti­ven Gestal­tens. Wir wer­den indi­vi­du­el­les Kör­per­wis­sen erfor­schen und Kör­per­ge­schich­ten aus­tau­schen\, um mit­ein­an­der und von­ein­an­der zu ler­nen.\n\n \nLA MOVE rich­tet sich an Frau­en jeden Alters\, die Lust und Inter­es­se an einem beweg­ten und krea­ti­ven Pro­zess haben. Für die Teil­nah­me sindkei­ne beson­de­ren Vor­aus­set­zun­gen nötig.\nDie Idee für LA MOVE als regel­mä­ßi­ge Pra­xis des Tan­zens und Aus­tau­sches unter Frau­en wur­de im Rah­men des Implan­tie­ren Fes­ti­vals 2022/23 aus unse­rem Bedürf­nis her­aus ent­wi­ckelt\, Kör­per­ge­schich­ten zu tei­len\, um mit­ein­an­der und von­ein­an­der zu ler­nen. Die­sen Pro­zess möch­ten wir ger­ne fortsetzen.Ter­mi­neSo. 16.04.2023 // 11–13 UhrSo. 11.06.2023 // 11–13 UhrSo. 02.07.2023 // 11–13 UhrKos­ten:90€ nor­mal // 65€ ermä­ßigt für den gesam­ten Zyklus\n35€ // 25€ pro Einzel-Workshop\nAnmel­dung boompinkblau@gmail.comDie Teil­neh­me­rin­nen­zahl ist auf­grund der Platz­ka­pa­zi­tät des Rau­mes begrenzt.Emma & Co – die Theaterwerkstatt\,\nGoe­ben­stra­ße 19 Hin­ter­haus\, Wiesbaden Wir bit­ten die Besucher*innen sich vor­her zu tes­ten. Wer an Coro­na oder irgend­wie anders anste­ckend erkrankt ist\, bleibt bit­te Zuhause.
URL:https://emma-und-co.de/veranstaltungen/la-move-tanz-koerper-selbstwirksamkeit-16-04/
LOCATION:Emma & Co. – die Theaterwerkstatt\, Goebenstraße 19\, Wiesbaden\, 65195\, Deutschland
CATEGORIES:Emma & Co.
ATTACH;FMTTYPE=image/jpeg:https://emma-und-co.de/wp-content/uploads/Emma_Veranstaltungsbild_2023_La-Move.jpg
END:VEVENT
END:VCALENDAR