BEGIN:VCALENDAR
VERSION:2.0
PRODID:-//Emma &amp; Co. – die Theaterwerkstatt - ECPv6.8.0//NONSGML v1.0//EN
CALSCALE:GREGORIAN
METHOD:PUBLISH
X-ORIGINAL-URL:https://emma-und-co.de
X-WR-CALDESC:Veranstaltungen für Emma &amp; Co. – die Theaterwerkstatt
REFRESH-INTERVAL;VALUE=DURATION:PT1H
X-Robots-Tag:noindex
X-PUBLISHED-TTL:PT1H
BEGIN:VTIMEZONE
TZID:Europe/Berlin
BEGIN:DAYLIGHT
TZOFFSETFROM:+0100
TZOFFSETTO:+0200
TZNAME:CEST
DTSTART:20230326T010000
END:DAYLIGHT
BEGIN:STANDARD
TZOFFSETFROM:+0200
TZOFFSETTO:+0100
TZNAME:CET
DTSTART:20231029T010000
END:STANDARD
END:VTIMEZONE
BEGIN:VEVENT
DTSTART;TZID=Europe/Berlin:20230429T193000
DTEND;TZID=Europe/Berlin:20230429T193000
DTSTAMP:20260421T213310
CREATED:20230411T220742Z
LAST-MODIFIED:20230412T064854Z
UID:3695-1682796600-1682796600@emma-und-co.de
SUMMARY:Hommage auf die Frauen
DESCRIPTION:EMMA besucht das Wal­hal­la im ExilAch­tung: Kann Spu­ren von Rea­li­tät enthaltenHom­mage auf die FrauenDie Frau – ein mys­te­riö­ses Wesen? Rät­sel­haft und undurch­sich­tig? Weich\, emp­find­lich und nach­gie­big? Nix da! Wir bre­chen mit all den Kli­schees und alter­tüm­li­chen Vor­ur­tei­len und zei­gen was in uns Frau­en wirk­lich steckt! An die­sem Abend wird die Frau\, das frem­de und doch so ver­trau­te Wesen gefeiert. \nDie­ser facet­ten­rei­chern Abend ist wie die Frau­en selbst: unter­halt­sam\, ernst­haft\, bewe­gend\, humor­voll und unbe­schreib­lich vielfältig. \nVon Frau­en. Für Frau­en. Also für alle\, die sich als Frau iden­ti­fi­zie­ren. Und natür­lich für alle ande­ren\, die die Wahr­heit vertragen. \nMit: Bar­ba­ra Haker\, Nora Kühnlein\, Bea­te Krist und Han­nah DickescheidSa. 24.04.2023 // 19:30 UhrWal­hal­la im ExilNero­stra­ße 24\, 65183 Wiesbaden Kos­ten:15€ / ermä­ßigt 10€ / Soli 20€TicketsWir bit­ten die Besucher*innen sich vor­her zu tes­ten. Wer an Coro­na oder irgend­wie anders anste­ckend erkrankt ist\, bleibt bit­te Zuhause.
URL:https://emma-und-co.de/veranstaltungen/hommage-auf-die-frauen-29-04-2023/
CATEGORIES:Emma & Co.
ATTACH;FMTTYPE=image/jpeg:https://emma-und-co.de/wp-content/uploads/Emma_Veranstaltungsbild_Hommage-auf-die-Frauen.jpg
END:VEVENT
END:VCALENDAR