BEGIN:VCALENDAR
VERSION:2.0
PRODID:-//Emma &amp; Co. – die Theaterwerkstatt - ECPv6.8.0//NONSGML v1.0//EN
CALSCALE:GREGORIAN
METHOD:PUBLISH
X-ORIGINAL-URL:https://emma-und-co.de
X-WR-CALDESC:Veranstaltungen für Emma &amp; Co. – die Theaterwerkstatt
REFRESH-INTERVAL;VALUE=DURATION:PT1H
X-Robots-Tag:noindex
X-PUBLISHED-TTL:PT1H
BEGIN:VTIMEZONE
TZID:Europe/Berlin
BEGIN:DAYLIGHT
TZOFFSETFROM:+0100
TZOFFSETTO:+0200
TZNAME:CEST
DTSTART:20230326T010000
END:DAYLIGHT
BEGIN:STANDARD
TZOFFSETFROM:+0200
TZOFFSETTO:+0100
TZNAME:CET
DTSTART:20231029T010000
END:STANDARD
END:VTIMEZONE
BEGIN:VEVENT
DTSTART;TZID=Europe/Berlin:20230715T130000
DTEND;TZID=Europe/Berlin:20230715T170000
DTSTAMP:20260421T164117
CREATED:20230614T155004Z
LAST-MODIFIED:20230614T170631Z
UID:3757-1689426000-1689440400@emma-und-co.de
SUMMARY:Kleinode im Westend entdecken 2023
DESCRIPTION:Die »Emma« öff­net für Euch von 13 bis 17 Uhr. Klein­ode im West­end ent­de­cken 2023Offe­ne Probe:Hom­mage auf die FrauenWir haben Wie­der­auf­nah­me­pro­ben unse­rer erfolg­rei­chen Insze­nie­rung “Hom­mage auf die Frau­en” und laden ein her­ein­zu­kom­men\, zuzu­schau­en und mit uns ins Gespräch zu kommen.Hom­mage auf die Frau­en — Ach­tung: Kann Spu­ren von Rea­li­tät ent­hal­ten! Die Frau – ein mys­te­riö­ses Wesen? Rät­sel­haft und undurch­sich­tig? Weich\, emp­find­lich und nach­gie­big? Nix da! Wir bre­chen mit all den Kli­schees und alter­tüm­li­chen Vor­ur­tei­len und zei­gen was in uns Frau­en wirk­lich steckt! \n\nVon Frau­en. Für Frau­en. Also für alle\, die sich als Frau iden­ti­fi­zie­ren. Und natür­lich auch für alle ande­ren\, die die Wahr­heit vertragen. \nKos­ten:Der Ein­tritt ist frei.Sa. 15.07.2023 // von 13 bis 17 UhrEmma & Co – die Theaterwerkstatt\,\nGoe­ben­stra­ße 19 Hin­ter­haus\, Wiesbaden
URL:https://emma-und-co.de/veranstaltungen/kleinode-im-westend-entdecken-2023/
LOCATION:Emma & Co. – die Theaterwerkstatt\, Goebenstraße 19\, Wiesbaden\, 65195\, Deutschland
CATEGORIES:Emma & Co.
ATTACH;FMTTYPE=image/jpeg:https://emma-und-co.de/wp-content/uploads/Emma_Kleinode22-1.jpg
END:VEVENT
BEGIN:VEVENT
DTSTART;TZID=Europe/Berlin:20230715T193000
DTEND;TZID=Europe/Berlin:20230715T193000
DTSTAMP:20260421T164117
CREATED:20230523T210818Z
LAST-MODIFIED:20230614T175656Z
UID:3735-1689449400-1689449400@emma-und-co.de
SUMMARY:Hommage auf die Frauen
DESCRIPTION:- Wir sind zu Gast im Wal­hal­la im Exil -Ach­tung: Kann Spu­ren von Rea­li­tät enthaltenHom­mage auf die FrauenDie Frau – ein mys­te­riö­ses Wesen? Rät­sel­haft und undurch­sich­tig? Weich\, emp­find­lich und nach­gie­big? Nix da! Wir bre­chen mit all den Kli­schees und alter­tüm­li­chen Vor­ur­tei­len und zei­gen was in uns Frau­en wirk­lich steckt! An die­sem Abend wird die Frau\, das frem­de und doch so ver­trau­te Wesen gefeiert. \n\nDie­ser facet­ten­rei­che Abend ist wie die Frau­en selbst: unter­halt­sam\, ernst­haft\, bewe­gend\, humor­voll und unbe­schreib­lich vielfältig.\n\nVon Frau­en. Für Frau­en. Also für alle\, die sich als Frau iden­ti­fi­zie­ren. Und natür­lich auch für alle ande­ren\, die die Wahr­heit vertragen.\nMit: Bar­ba­ra Haker\, Nora Kühnlein\, Bea­te Krist und Han­nah DickescheidSa. 15.07.2023 // 19:30 UhrWal­hal­la im ExilNero­stra­ße 24\, 65183 Wiesbaden Kos­ten:15€ / ermä­ßigt 10€ / Soli 20€TicketsWir bit­ten die Besucher*innen sich vor­her zu tes­ten. Wer an Coro­na oder irgend­wie anders anste­ckend erkrankt ist\, bleibt bit­te Zuhause.
URL:https://emma-und-co.de/veranstaltungen/hommage-auf-die-frauen_15-7-2023/
CATEGORIES:Emma & Co.
ATTACH;FMTTYPE=image/jpeg:https://emma-und-co.de/wp-content/uploads/Emma_Veranstaltungsbild_Hommage-auf-die-Frauen.jpg
END:VEVENT
END:VCALENDAR