BEGIN:VCALENDAR
VERSION:2.0
PRODID:-//Emma &amp; Co. – die Theaterwerkstatt - ECPv6.8.0//NONSGML v1.0//EN
CALSCALE:GREGORIAN
METHOD:PUBLISH
X-WR-CALNAME:Emma &amp; Co. – die Theaterwerkstatt
X-ORIGINAL-URL:https://emma-und-co.de
X-WR-CALDESC:Veranstaltungen für Emma &amp; Co. – die Theaterwerkstatt
REFRESH-INTERVAL;VALUE=DURATION:PT1H
X-Robots-Tag:noindex
X-PUBLISHED-TTL:PT1H
BEGIN:VTIMEZONE
TZID:Europe/Berlin
BEGIN:DAYLIGHT
TZOFFSETFROM:+0100
TZOFFSETTO:+0200
TZNAME:CEST
DTSTART:20230326T010000
END:DAYLIGHT
BEGIN:STANDARD
TZOFFSETFROM:+0200
TZOFFSETTO:+0100
TZNAME:CET
DTSTART:20231029T010000
END:STANDARD
END:VTIMEZONE
BEGIN:VEVENT
DTSTART;TZID=Europe/Berlin:20230810T200000
DTEND;TZID=Europe/Berlin:20230810T200000
DTSTAMP:20260421T151346
CREATED:20230720T142725Z
LAST-MODIFIED:20230724T164003Z
UID:3782-1691697600-1691697600@emma-und-co.de
SUMMARY:Hommage auf die Frauen
DESCRIPTION:Wir sind zu Gast im Kultur-DschungelAch­tung: Kann Spu­ren von Rea­li­tät enthaltenHom­mage auf die FrauenDie Frau – ein mys­te­riö­ses Wesen? Rät­sel­haft und undurch­sich­tig? Weich\, emp­find­lich und nach­gie­big? Nix da! Wir bre­chen mit all den Kli­schees und alter­tüm­li­chen Vor­ur­tei­len und zei­gen was in uns Frau­en wirk­lich steckt! An die­sem Abend wird die Frau\, das frem­de und doch so ver­trau­te Wesen gefeiert. \n\nDie­ser facet­ten­rei­che Abend ist wie die Frau­en selbst: unter­halt­sam\, ernst­haft\, bewe­gend\, humor­voll und unbe­schreib­lich vielfältig.\n\nVon Frau­en. Für Frau­en. Also für alle\, die sich als Frau iden­ti­fi­zie­ren. Und natür­lich auch für alle ande­ren\, die die Wahr­heit vertragen.\nMit: Bar­ba­ra Haker\, Nora Kühnlein\, Bea­te Krist und Han­nah DickescheidDo. 10.08.2023 // 20:00 UhrKul­tur-Dschun­gelUnter den Eichen 1\, 65195 Wiesbaden Kos­ten:15€ / ermä­ßigt 10€ / Soli 20€TicketsWir bit­ten die Besucher*innen sich vor­her zu tes­ten. Wer an Coro­na oder irgend­wie anders anste­ckend erkrankt ist\, bleibt bit­te Zuhause.
URL:https://emma-und-co.de/veranstaltungen/hommage-auf-die-frauen-20230810/
CATEGORIES:Emma & Co.
ATTACH;FMTTYPE=image/jpeg:https://emma-und-co.de/wp-content/uploads/Emma_Veranstaltungsbild_Hommage-auf-die-Frauen.jpg
END:VEVENT
END:VCALENDAR