BEGIN:VCALENDAR
VERSION:2.0
PRODID:-//Emma &amp; Co. – die Theaterwerkstatt - ECPv6.8.0//NONSGML v1.0//EN
CALSCALE:GREGORIAN
METHOD:PUBLISH
X-ORIGINAL-URL:https://emma-und-co.de
X-WR-CALDESC:Veranstaltungen für Emma &amp; Co. – die Theaterwerkstatt
REFRESH-INTERVAL;VALUE=DURATION:PT1H
X-Robots-Tag:noindex
X-PUBLISHED-TTL:PT1H
BEGIN:VTIMEZONE
TZID:Europe/Berlin
BEGIN:DAYLIGHT
TZOFFSETFROM:+0100
TZOFFSETTO:+0200
TZNAME:CEST
DTSTART:20230326T010000
END:DAYLIGHT
BEGIN:STANDARD
TZOFFSETFROM:+0200
TZOFFSETTO:+0100
TZNAME:CET
DTSTART:20231029T010000
END:STANDARD
END:VTIMEZONE
BEGIN:VEVENT
DTSTART;TZID=Europe/Berlin:20231010T163000
DTEND;TZID=Europe/Berlin:20231010T180000
DTSTAMP:20260421T124946
CREATED:20230927T220111Z
LAST-MODIFIED:20230928T124952Z
UID:4001-1696955400-1696960800@emma-und-co.de
SUMMARY:BÜHNENBANDE
DESCRIPTION:Ein Schau­spiel-Pro­jekt für Kin­der von 7–10 JahrenBüh­nen­ban­deGemein­sam Eure Geschich­te auf die Büh­ne brin­gen – das könnt Ihr von Sep­tem­ber bis März bei unse­rem Kin­der-Ensem­ble „Büh­nen­ban­de“ in unse­rer Thea­ter­werk­statt Emma & Co in der Goe­ben­stras­se 19 Hinterhaus.Wir wol­len Geschich­ten erfin­den\, Rol­len ent­de­cken\, Spie­len und Spaß haben und dabei ein Thea­ter­stück insze­nie­ren. Dabei zei­gen wir Euch\, wie man schau­spielt\, wie man Rol­len ent­wi­ckelt\, was Eure Stär­ken sind und wie Ihr sie ein­brin­gen könnt. Taucht ein in die Welt des Schau­spiels\, des Theaters.Rein­schnup­pern könnt Ihr am 19. & 26.09. von 16:30 – 18:00 Uhr.\nAb dem 10. Okto­ber star­ten wir dann mit dem Ensem­ble und am 16.03. zei­gen wir Euren Fami­li­en\, Freund*innen\, was Ihr so alles habt ent­ste­hen lassen. Emma & Co. — die TheaterwerkstattGoe­ben­stra­ße 19\, 65196 WiesbadenDie Teil­nah­me­ge­bühr an die­sem Pro­jekt kos­tet pro Kind 540 € oder jeweils 6 Monats­ra­ten a 80 €.540 €Infos & Anmel­dung (bit­te auch für die bei­den Schnup­per­ter­mi­ne ver­bind­lich anmel­den): barbara@barbarahaker.de
URL:https://emma-und-co.de/veranstaltungen/buehnenbande/
CATEGORIES:Emma & Co.,Theaterworkshop
ATTACH;FMTTYPE=image/jpeg:https://emma-und-co.de/wp-content/uploads/Emma_Buehnenbande_2023.jpg
END:VEVENT
END:VCALENDAR