BEGIN:VCALENDAR
VERSION:2.0
PRODID:-//Emma &amp; Co. – die Theaterwerkstatt - ECPv6.8.0//NONSGML v1.0//EN
CALSCALE:GREGORIAN
METHOD:PUBLISH
X-ORIGINAL-URL:https://emma-und-co.de
X-WR-CALDESC:Veranstaltungen für Emma &amp; Co. – die Theaterwerkstatt
REFRESH-INTERVAL;VALUE=DURATION:PT1H
X-Robots-Tag:noindex
X-PUBLISHED-TTL:PT1H
BEGIN:VTIMEZONE
TZID:Europe/Berlin
BEGIN:DAYLIGHT
TZOFFSETFROM:+0100
TZOFFSETTO:+0200
TZNAME:CEST
DTSTART:20260329T010000
END:DAYLIGHT
BEGIN:STANDARD
TZOFFSETFROM:+0200
TZOFFSETTO:+0100
TZNAME:CET
DTSTART:20261025T010000
END:STANDARD
END:VTIMEZONE
BEGIN:VEVENT
DTSTART;TZID=Europe/Berlin:20260201T180000
DTEND;TZID=Europe/Berlin:20260201T193000
DTSTAMP:20260420T014132
CREATED:20251210T184943Z
LAST-MODIFIED:20251210T191246Z
UID:4994-1769968800-1769974200@emma-und-co.de
SUMMARY:EINE HELDIN BIN ICH NICHT
DESCRIPTION:Ein inter­dis­zi­pli­nä­res Erzähltheaterformat\nnach „Mei­ne Zeit mit Anne Frank“ von Miep Gies und „Tage­buch“ von Anne Frank \nEINE HEL­DIN BIN ICH NICHTDas Stück ver­bin­det Spiel­sze­nen mit Kla­vier­stü­cken und Gesangs­ein­la­gen. Die Bio­gra­phie von Miep Gies wird sze­nisch erzählt und von Lie­dern und Chan­sons aus der Zeit beglei­tet. Aus­zü­ge aus Anne Franks Tage­buch run­den die sze­ni­sche Bio­gra­phie ab.Miep Gies\nIhr Name ist untrenn­bar mit dem Anne Franks ver­bun­den\, die sich mit ihrer Fami­lie in einem  Ams­ter­da­mer Hin­ter­haus vor den Nazis ver­steck­te und 1945 in Ber­gen-Bel­sen ver­starb. In ihrem Tage­buch beschrieb das jüdi­sche Mäd­chen Anne ihren All­tag im Ver­steck. Miep Gies ver­sorg­te die Fami­lie Frank in die­ser Zeit. Sie wird zum Bin­de­glied zur Außen­welt. Spä­ter wird man sie „Schutz­en­gel\, Ernäh­rerin und Trös­te­rin” der Unter­ge­tauch­ten nen­nen und sie war es auch\, die\nAnne Franks Tage­buch für die Nach­welt rettete. Spiel: Bea­te Krist \nGesang: Lisa Rau \nKla­vier: Kat­rin Aldorf \nFas­sung und Regie: Eric Haug \nRaum: Manue­la Pirozzi geför­dert von der Stadt Rüs­sels­heim\, Stif­tung Alte Syn­ago­ge\, Bert­hold Leib­in­ger Stiftung01.02.2026 | 18:00 UhrEmma — die TheaterwerkstattBlü­cher­platz 3\, 65195 WiesbadenEin­tritt:Ent­schei­de Du\, wie­viel Dir die­ser Moment Wert ist. 15 € / 10 € / 5 €.Wir freu­en uns über eine zuver­läs­si­ge Ticket­re­ser­vie­rung unter tickets@emma-und-co.de.
URL:https://emma-und-co.de/veranstaltungen/eine-heldin-bin-ich-nicht/
LOCATION:Emma\, die Thea­ter­werk­statt — Frei­es Thea­ter Wiesbaden\, Blücherplatz 3\, Wiesbaden\, 65195
CATEGORIES:Emma & Co.
ATTACH;FMTTYPE=image/jpeg:https://emma-und-co.de/wp-content/uploads/THEATER-3D-Eine-Hedin-bin-ich-nicht-1-scaled.jpg
END:VEVENT
END:VCALENDAR