BEGIN:VCALENDAR
VERSION:2.0
PRODID:-//Emma &amp; Co. – die Theaterwerkstatt - ECPv6.8.0//NONSGML v1.0//EN
CALSCALE:GREGORIAN
METHOD:PUBLISH
X-WR-CALNAME:Emma &amp; Co. – die Theaterwerkstatt
X-ORIGINAL-URL:https://emma-und-co.de
X-WR-CALDESC:Veranstaltungen für Emma &amp; Co. – die Theaterwerkstatt
REFRESH-INTERVAL;VALUE=DURATION:PT1H
X-Robots-Tag:noindex
X-PUBLISHED-TTL:PT1H
BEGIN:VTIMEZONE
TZID:Europe/Berlin
BEGIN:DAYLIGHT
TZOFFSETFROM:+0100
TZOFFSETTO:+0200
TZNAME:CEST
DTSTART:20260329T010000
END:DAYLIGHT
BEGIN:STANDARD
TZOFFSETFROM:+0200
TZOFFSETTO:+0100
TZNAME:CET
DTSTART:20261025T010000
END:STANDARD
END:VTIMEZONE
BEGIN:VEVENT
DTSTART;TZID=Europe/Berlin:20260305T190000
DTEND;TZID=Europe/Berlin:20260327T210000
DTSTAMP:20260420T000333
CREATED:20260205T205038Z
LAST-MODIFIED:20260209T094110Z
UID:5031-1772737200-1774645200@emma-und-co.de
SUMMARY:PERSONNAGE I ǀ Schauspiel-Workshop
DESCRIPTION:Das Ange­bot rich­tet sich Men­schen\, die an einem leben­di­gen\, emo­tio­na­len und authen­ti­schen Aus­druck auf der Büh­ne arbei­ten wollen.Schau­spiel-Work­shopPER­SON­NA­GE IDer Weg zur Rol­le — Schau­spiel­trai­ning vom Feins­ten zur Ent­wick­lung sei­nes eige­nen emo­tio­na­len Aus­drucks auf der Büh­ne. Ob es dich auf die Thea­ter­büh­ne oder vor die Kame­ra zieht\, wir wer­den auf spie­le­ri­sche Wei­se das Ver­trau­en in dich und dei­ne schau­spie­le­ri­sche Intui­ti­on zu stär­ken. Wir tau­chen ein in die Schau­spiel­me­tho­dik von Sta­nis­law­ski\, Strasberg\, Meis­ner und des fran­zö­si­schen thé­at­re cor­po­rel. Denn „wenn man etwas auf der Büh­ne tut\, dann tut man es wirk­lich\, anstatt nur so zu tun\, als wür­de man es tun“ (Meis­ner).Die Teil­nah­me­ge­bühr beträgt 100\,00 €. Infos und Anmel­dung unter tickets@emma-und-co.de\nOli­ver Klau­ki­en lei­tet den Work­shop. Er arbei­tet als Schau­spie­ler und Regis­seur in der frei­en Thea­ter­sze­ne. Aus­bil­dung an der Eco­le de Mime et clow­ne du cor­beau blanc \n05.03. & 12.03. & 19.03. & 26.03.2026 ǀ 4 Aben­de je 2 Std |19:00 — 21:00 UhrBeginn des Work­shops 05.03.2026 | Wei­te­re Ter­mi­ne 12.03. & 19.03. & 26.03.2026 ǀ 19:00 — 21:00 UhrEmma — die TheaterwerkstattBlü­cher­platz 3 —  65195 WiesbadenEin­tritt:100\,00 € Teil­nah­me­ge­bühr | Infos und Anmel­dung unter tickets@emma-und-co.de
URL:https://emma-und-co.de/veranstaltungen/personnage-%c7%80-schauspiel-workshop/
LOCATION:Emma\, die Thea­ter­werk­statt — Frei­es Thea­ter Wiesbaden\, Blücherplatz 3\, Wiesbaden\, 65195
CATEGORIES:Donnerstag,Emma & Co.,Theaterworkshop
ATTACH;FMTTYPE=image/jpeg:https://emma-und-co.de/wp-content/uploads/Oliver-Quadrat-by-eye-take-your-picture.jpg
END:VEVENT
BEGIN:VEVENT
DTSTART;TZID=Europe/Berlin:20260306T193000
DTEND;TZID=Europe/Berlin:20260306T210000
DTSTAMP:20260420T000334
CREATED:20260112T172506Z
LAST-MODIFIED:20260210T220959Z
UID:5011-1772825400-1772830800@emma-und-co.de
SUMMARY:DU WIRST KAISERIN SEIN
DESCRIPTION:Jut­ta Schu­bert insze­niert die­sen inti­men Mono­log einer Frau — Berüh­rend. Über­ra­schend. Nah. Die Schau­spie­le­rin Bar­ba­ra Haker hat den Text geschrie­ben und spielt die Rol­le der José­phi­ne. Ein dich­ter\, unge­wöhn­li­cher Mono­log einer Frau ihrer Zeit.Aber ist es nur die Geschich­te einer Frau Anfang des 19. Jahrhunderts?DU WIRST\nKAI­SE­RIN SEIN José­phi­ne de Beau­har­nais\, Kai­se­rin von Frank­reich\, steht vor einem für sie schick­sals­haf­ten Abend. Erin­ne­run­gen\, Zwei­fel\, Fra­gen nach dem Weg ihres Lebens kom­men auf und zei­gen die Ambi­va­lenz einer Frau\, die eine geschei­ter­te Ehe hin­ter sich hat­te\, bevor sie einen Mann auf dem Weg zum Kai­ser beglei­te­te: Napo­le­on Bona­par­te. Doch nun muss José­phi­ne sich den Fra­gen stel­len\, vor denen sie Zeit ihres Lebens davon­ge­lau­fen ist. Und sich der Tat­sa­che stel­len\, dass sie als älte­re Frau kei­ne gesell­schafts­fä­hi­ge Stel­lung mehr hat.Frei­es Thea­ter Wiesbaden\nText und Spiel: Bar­ba­ra Haker\nRegie: Jut­ta Schubert Geför­dert durch das Kul­tur­amt der Lan­des­haupt­stadt Wies­ba­den und vom Hes­si­schen Minis­te­ri­um für Wis­sen­schaft und For­schung\, Kunst und Kultur.06.03.2026 | 19:30 UhrEmma — die TheaterwerkstattBlü­cher­platz 3\, 65195 WiesbadenEin­tritt:Ent­schei­de Du\, wie­viel Dir der Abend Wert ist:\n25€ । 20 € । 15 € । 10 €\nWir freu­en uns über\neine zuver­läs­si­ge Ticketreservierung\nunter tickets@emma-und-co.de
URL:https://emma-und-co.de/veranstaltungen/du-wirst-kaiserin-sein/
LOCATION:Emma\, die Thea­ter­werk­statt — Frei­es Thea­ter Wiesbaden\, Blücherplatz 3\, Wiesbaden\, 65195
CATEGORIES:Emma & Co.
ATTACH;FMTTYPE=image/jpeg:https://emma-und-co.de/wp-content/uploads/Josephine_227sw-scaled.jpg
END:VEVENT
END:VCALENDAR