BEGIN:VCALENDAR
VERSION:2.0
PRODID:-//Emma &amp; Co. – die Theaterwerkstatt - ECPv6.8.0//NONSGML v1.0//EN
CALSCALE:GREGORIAN
METHOD:PUBLISH
X-ORIGINAL-URL:https://emma-und-co.de
X-WR-CALDESC:Veranstaltungen für Emma &amp; Co. – die Theaterwerkstatt
REFRESH-INTERVAL;VALUE=DURATION:PT1H
X-Robots-Tag:noindex
X-PUBLISHED-TTL:PT1H
BEGIN:VTIMEZONE
TZID:Europe/Berlin
BEGIN:DAYLIGHT
TZOFFSETFROM:+0100
TZOFFSETTO:+0200
TZNAME:CEST
DTSTART:20220327T010000
END:DAYLIGHT
BEGIN:STANDARD
TZOFFSETFROM:+0200
TZOFFSETTO:+0100
TZNAME:CET
DTSTART:20221030T010000
END:STANDARD
END:VTIMEZONE
BEGIN:VEVENT
DTSTART;TZID=Europe/Berlin:20220423T110000
DTEND;TZID=Europe/Berlin:20220423T190000
DTSTAMP:20260422T125825
CREATED:20220421T090133Z
LAST-MODIFIED:20220421T100641Z
UID:2476-1650711600-1650740400@emma-und-co.de
SUMMARY:die Theaterwerkstatt öffnet ihre Türen
DESCRIPTION:Ein Tag vol­ler Kultur die Thea­ter­werk­statt öff­net ihre Türen 23.04.2022 — Ein Tag vol­ler leben­di­ger Kul­tur im West­end Wies­ba­den. End­lich öff­net unse­re Thea­ter­werk­statt die Türen und lädt Neu­gie­ri­ge den gan­zen Tag ein die Men­schen der ‚Emma‘ und ihre künstlerische Arbeit ken­nen­zu­ler­nen. Es gibt Work­shops und Aus­schnit­te aus den Pro­duk­tio­nen\, die in der „Emma“ ent­stan­den sind. Von 11:00 – 19:00 Uhr ist der Ein­tritt frei und unse­re Thea­ter­werk­statt ist für alle zugänglich. \nUm 19:30 Uhr spie­len Kosche­lund­Stahl „RAB­BIT HOLE“. Die Insze­nie­rung „RAB­BIT HOLE“ steht sym­bo­lisch für eine Flucht- und Such­be­we­gung vom Frem­den hin zu dem\, was uns trotz Unter­schie­den ver­bin­det — eine Rei­se von der Ohn­macht hin zur Selbst­wirk­sam­keit und Veränderung. \nEmma & Co – die Thea­ter­werk­statt\, Goe­ben­stra­ße 19 Hin­ter­haus EG. Die Thea­ter­werk­statt ist stu­fen­los erreichbar. \nTages­pro­gramm11:00 Uhr — „Thea­ter­werk­statt“ mit Bar­ba­ra Haker // Work­shop für Kin­der (7–10 Jah­re) (ca. 45 Min) 13:00 Uhr – „Kör­per­bio­gra­fi­sches Thea­ter“ mit Oli­ver Klau­ki­enWork­shop für Erwach­se­ne (ca. 30 Min) \n  13:00 Uhr – „Kör­per­bio­gra­fi­sches Thea­ter“ mit Oli­ver Klau­ki­enWork­shop für Erwach­se­ne (ca. 30 Min) \n  14:00 Uhr – „Kör­per­spra­che“ mit Chris­ti­ne Stahl // Work­shop für Erwach­se­ne (ca. 45 Min) \n 15.00 Uhr – „Rei­se ins Nichts“\nAus­schnitt aus einer mul­ti­me­dia­len Thea­ter­per­for­mance mit Moritz Buch 15:30 Uhr – „Freie Sze­ne & freie Künstler*innen – Wel­che Per­spek­ti­ven braucht unse­re Arbeit?“ // Dis­kus­si­on mit Künstler*innen und Kul­tur­in­ter­es­sier­ten\, mode­riert von Bar­ba­ra Haker und Moritz Buch 17:00 Uhr – „Hom­mage auf die Frau­en“ // Ach­tung: Kann Spu­ren von Rea­li­tät ent­hal­ten – ein Aus­schnitt mit Bar­ba­ra Haker & Bea­te Krist 17:30 Uhr — Wir fei­ern Emma & Co! 19:30 Uhr „RAB­BIT HOLE“ – Insze­nie­rung von Kosche­lund­StahlTickets für „RAB­BIT HOLE“ 10 € (ermäßigt)/ 15 € (regulär)/ 20 € (Soli-Ticket) Wir bit­ten hier um eine Vor­anmel­dung auf­grund der Platz­li­mi­tie­rung unter tickets@emma-und-co.de Rab­bit HoleWir bedan­ken uns für die freund­li­che Unterstützung des Kul­tur­am­tes Wiesbaden.Wich­ti­ge Infor­ma­tio­nen zum The­ma „Corona“:Eure Gesund­heit und die unse­rer Künstler*innen hat immer noch für uns obers­te Prio­ri­tät. Des­halb hal­ten wir bis Ende April die fol­gen­den Hygie­ne-Regeln als unerlässlich.\nFür die Teil­nah­me an unse­ren Work­shops gilt:\nIhr bringt die Beschei­ni­gung eines tages­ak­tu­el­len Tests mit\, ODER Ihr bekommt für eine klei­ne Spen­de von uns einen Schnell­test\, ODER Ihr bringt einen eige­nen Schnell­test mit\, den Ihr hier vor dem Ein­lass (bit­te 15 Min War­te­zeit ein­kal­ku­lie­ren) durchführt\nFür die Besu­che unse­rer Werk­statt­ein­bli­cke gilt:\nIhr tragt eine FFP2-Mas­ke. Ihr bringt die Beschei­ni­gung eines tages­ak­tu­el­len Tests mit\, ODER Ihr bekommt für eine klei­ne Spen­de von uns einen Schnell­test\, ODER Ihr bringt einen eige­nen Schnell­test mit\, den Ihr hier vor dem Ein­lass (bit­te 15 Min War­te­zeit ein­kal­ku­lie­ren) durchführt. \n\nEmma — die Theaterwerkstatt\nNEU Blü­cher­platz 3\, Wiesbaden WEG­PLA­NER
URL:https://emma-und-co.de/veranstaltungen/die-theaterwerkstatt-oeffnet-ihre-tu%cc%88ren/
LOCATION:Emma & Co. – die Theaterwerkstatt\, Goebenstraße 19\, Wiesbaden\, 65195\, Deutschland
ATTACH;FMTTYPE=image/jpeg:https://emma-und-co.de/wp-content/uploads/Emma_Eroeffnung.jpg
END:VEVENT
BEGIN:VEVENT
DTSTART;TZID=Europe/Berlin:20220423T193000
DTEND;TZID=Europe/Berlin:20220423T210000
DTSTAMP:20260422T125825
CREATED:20220421T092609Z
LAST-MODIFIED:20220421T092718Z
UID:2483-1650742200-1650747600@emma-und-co.de
SUMMARY:Rabbit Hole
DESCRIPTION:Eine Insze­nie­rung von KoschelundStahlRab­bit HoleDas Thea­ter­stück „RAB­BIT HOLE“ steht sym­bo­lisch für eine Flucht- und Such­be­we­gung vom Frem­den hin zu dem\, was uns trotz Unter­schie­den ver­bin­det — eine Rei­se von der Ohn­macht hin zur Selbst­wirk­sam­keit und Veränderung. \nDas Graue sitzt im Ver­bor­ge­nen in sei­ner eige­nen Welt und geht nur bis zur Gren­ze\, denn dahin­ter sieht die Welt anders aus. In sei­ner Welt kennt das Graue alles\, es ist ein ver­trau­ter\, siche­rer Ort. Aber es kann nicht blei­ben. Daher fasst das Graue Mut und über­schrei­tet die Gren­ze. Im Bun­ten ist alles fremd. Das Graue trifft auf ver­schie­de­ne Figu­ren. Das Rote will Grau ver­trei­ben\, Gelb reagiert mit Rück­zug. Nach und nach nähern sich die Far­ben an und stel­len fest: “Jeder ist ein­zig­ar­tig”. Doch die­se Ein­zig­ar­tig­keit stellt wei­te­re Gren­zen da\, die es zu über­win­den gilt. Zwi­schen Gren­zen über­schrei­ten\, Gren­zen zie­hen\, Gren­zen mau­ern und Gren­zen spren­gen\, ler­nen die Far­ben nach und nach\, dass man nur mit­ein­an­der leuch­ten kann. \nIm Kon­zept von Nora Koschel und Chris­ti­ne Stahl geht es um ein Thea­ter (fast) ohne Wor­te. Gear­bei­tet wird mit Kos­tüm­frag­men­ten\, weni­gen Requi­si­ten\, selbst kom­po­nier­ter Musik und star­kem kör­per­li­chen Aus­druck. Im Span­nungs­feld von Kör­per\, Licht und Ton ent­ste­hen Bil­der\, die die Innen­welt der Figu­ren erleb­bar und sicht­bar macht. \nSchau­spiel und Regie: Chris­ti­ne Stahl und Nora Koschel\nMusik: Mario Geckeler \nTicket­preis: 15\,- €10 € (ermä­ßigt) / 20 € (Soli-Ticket)Tickets reser­vie­renEine Vor­anmel­dung ist auf­grund der Platz­li­mi­tie­rung erfor­der­lich. Bit­te infor­mie­ren Sie sich auf unse­rer Home­page über die an die­sem Tag gül­ti­gen Coro­na-Hygie­ne­re­geln. Danke. \nWir bedan­ken uns für die freund­li­che Unter­stüt­zung des Kul­tur­am­tes Wiesbaden. Emma — die Theaterwerkstatt\nNEU Blü­cher­platz 3\, Wiesbaden WEG­PLA­NER
URL:https://emma-und-co.de/veranstaltungen/rabbit-hole/
LOCATION:Emma & Co. – die Theaterwerkstatt\, Goebenstraße 19\, Wiesbaden\, 65195\, Deutschland
ATTACH;FMTTYPE=image/jpeg:https://emma-und-co.de/wp-content/uploads/Emma_Rabbit-Hole.jpg
ORGANIZER;CN="Emma & Co.":MAILTO:kontakt@emma-und-co.de
END:VEVENT
BEGIN:VEVENT
DTSTART;TZID=Europe/Berlin:20220430T193000
DTEND;TZID=Europe/Berlin:20220430T193000
DTSTAMP:20260422T125825
CREATED:20220319T211830Z
LAST-MODIFIED:20220421T082428Z
UID:2445-1651347000-1651347000@emma-und-co.de
SUMMARY:Reise ins Nichts
DESCRIPTION:Mit Moritz Buch und Han­nah DickescheidRei­se ins NichtsUnbe­que­me geschicht­li­che Tat­be­stän­de […] wer­den behan­delt\, als sei­en sie kei­ne Tat­sa­chen\, son­dern Din­ge\, über die man die­ser oder jener Mei­nung sein kön­ne.“ Han­nah Arendt \nWir leben in einer Welt der Wider­sprü­che. Wir neh­men sie hin\, hal­ten sie aus\, affir­mie­ren sie oder ver­su­chen sie auf­zu­lö­sen. Gesund­heit\, Woh­nen\, Bil­dung\, Umwelt – alles All­ge­mein­gü­ter\, die stän­dig für wirt­schaft­li­che und pri­va­te Inter­es­sen ver­wer­tet wer­den. Und statt kom­ple­xe Zusam­men­hän­ge zu erken­nen\, haben in Deutsch­land zu Kri­sen­zei­ten ein­fa­che Ver­schwö­rungs­my­then Konjunktur. \nDie Thea­ter­per­for­mance „Rei­se ins Nichts“ ver­webt geschrie­be­nes Wort aus Ver­gan­gen­heit und Gegen­wart und ver­knüpft digi­ta­les und im Moment erleb­tes Büh­nen­ge­sche­hen\, um eine Aus­ein­an­der­set­zung zu evo­zie­ren\, die längst über­fäl­lig ist und den­noch hin­aus­ge­zö­gert wird. \nWas kön­nen wir aus der Erklä­rung eines 18-Jäh­ri­gen im Amts­ge­richt Ham­burg-Alto­na vor dem Hin­ter­grund des G20-Gip­fels 2017 ler­nen? Kön­nen uns Zeit­zeu­gen­be­rich­te von über 80 Jah­ren noch berüh­ren oder sind sie mitt­ler­wei­le fad‘ gewor­den? Zu oft gehört\, zu oft gese­hen? Kli­ma­kri­se\, Ver­schwö­rungs­my­then\, Poli­tik und Wahr­heit. Hat das was mit mir zu tun? Was hat das mit mir zu tun? Wie lan­ge kann ich ein unan­ge­neh­mes Gefühl aus­hal­ten\, bis ich in Hand­lung komme? \nKommt mit uns auf die Rei­se und fin­det her­aus\, wohin sie führt. Ins Nichts? \nTicket­preis: 15\,- €10 € (ermä­ßigt) / 20 € (Soli-Ticket)Tickets reser­vie­renEine Vor­anmel­dung ist auf­grund der Platz­li­mi­tie­rung erfor­der­lich. Bit­te infor­mie­ren Sie sich auf unse­rer Home­page über die an die­sem Tag gül­ti­gen Coro­na-Hygie­ne­re­geln. Danke.\n  \nWir bedan­ken uns für die freund­li­che Unter­stüt­zung des Kul­tur­am­tes Wies­ba­den und der hes­si­schen Kulturstiftung. Emma — die Theaterwerkstatt\nNEU Blü­cher­platz 3\, Wiesbaden WEG­PLA­NER
URL:https://emma-und-co.de/veranstaltungen/reise-ins-nichts/
LOCATION:Emma & Co. – die Theaterwerkstatt\, Goebenstraße 19\, Wiesbaden\, 65195\, Deutschland
ATTACH;FMTTYPE=image/jpeg:https://emma-und-co.de/wp-content/uploads/Emma_Veranstaltungsbild_Reise-ins-Nichts.jpg
ORGANIZER;CN="Emma & Co.":MAILTO:kontakt@emma-und-co.de
END:VEVENT
END:VCALENDAR