BEGIN:VCALENDAR
VERSION:2.0
PRODID:-//Emma &amp; Co. – die Theaterwerkstatt - ECPv6.8.0//NONSGML v1.0//EN
CALSCALE:GREGORIAN
METHOD:PUBLISH
X-WR-CALNAME:Emma &amp; Co. – die Theaterwerkstatt
X-ORIGINAL-URL:https://emma-und-co.de
X-WR-CALDESC:Veranstaltungen für Emma &amp; Co. – die Theaterwerkstatt
REFRESH-INTERVAL;VALUE=DURATION:PT1H
X-Robots-Tag:noindex
X-PUBLISHED-TTL:PT1H
BEGIN:VTIMEZONE
TZID:Europe/Berlin
BEGIN:DAYLIGHT
TZOFFSETFROM:+0100
TZOFFSETTO:+0200
TZNAME:CEST
DTSTART:20220327T010000
END:DAYLIGHT
BEGIN:STANDARD
TZOFFSETFROM:+0200
TZOFFSETTO:+0100
TZNAME:CET
DTSTART:20221030T010000
END:STANDARD
END:VTIMEZONE
BEGIN:VEVENT
DTSTART;TZID=Europe/Berlin:20221016T193000
DTEND;TZID=Europe/Berlin:20221016T193000
DTSTAMP:20260422T043125
CREATED:20221005T143428Z
LAST-MODIFIED:20221010T160636Z
UID:2986-1665948600-1665948600@emma-und-co.de
SUMMARY:Premiere: APPLAUS\, APPLAUS! – who cares!?
DESCRIPTION:EMMAS WERK­STATT­EIN­BLI­CKE+++ Eine Wies­ba­den — Premiere +++APPLAUS\, APPLAUS! – who cares!?Eine Pro­duk­ti­on von Thea­ter 3DENT­HÄLT 100% PURE FRAU­EN­REA­LI­TÄT\, 30% VIRUS\, 25% POE­SIE\, 20% FRA­GE­ZEI­CHEN\, 5% ROTEN LIPPENSTIFT.Im Rah­men der Kul­tur­ta­ge im Westend»Empha­tisch und ein­fühl­sam für vie­les in die­sen Zei­ten – ein lei­ser Abend mit lau­ter Wir­kung.« – MADE.Jury \nDeutsch­land 2020. Wir befin­den uns in einem Aus­nah­me­zu­stand. Der Lock­down\, der zur Ein­däm­mung des Virus SARS-CoV2 not­wen­dig ist\, hat spür­ba­re Fol­gen hin­ter­las­sen. Die Aus­wir­kun­gen wer­den zu einem gro­ßen Teil von Frau­en getra­gen. APPLAUS\, APPLAUS! ist ein inter­dis­zi­pli­nä­rer Thea­ter­abend auf der Büh­ne\, eine per­for­ma­ti­ve Instal­la­ti­on: Doku­men­ta­ri­sche Frag­men­te tref­fen sich mit situa­ti­ven Impul­sen und neu­en media­len Mög­lich­kei­ten zu einer Col­la­ge – Ein­sich­ten in auf­ge­schla­ge­ne Tage­bü­cher\, von Frau­en in Zei­ten der Pan­de­mie. Eige­ne Tex­te mischen sich mit lite­ra­ri­schen; eine Brü­cke von der Spa­ni­schen Grip­pe hin zu Covid-19 – von Frau­en­bil­dern damals bis heu­te. Wel­che gesell­schaft­li­chen Bruch­stel­len macht die Pan­de­mie sicht­bar? Reicht Applaus? Braucht das Sys­tem ein »Update«? Und who cares? \nSPIEL • Bea­te Krist\nRAUM • Manue­la Pirozzi\nREGIE • Julia­na Fuhrmann\nFILM • Ben­ja­min Martins\nTECH­NIK • Domi­nik Krist \nFoto © Vanes­sa Engeln \nFör­de­rer: Hes­si­sches Minis­te­ri­um für Wis­sen­schaft und Kunst.Ticket­preis: 10 € (ermäßigt)/ 15 € (regulär)/ 20 € (Soli-Ticket)Tickets reser­vie­renEmma & Co. – die Theaterwerkstatt\nGoe­ben­stra­ße 19 Hin­ter­haus\, Wiesbaden
URL:https://emma-und-co.de/veranstaltungen/premiere-applaus-applaus-who-cares-von-theater-3d/
ATTACH;FMTTYPE=image/jpeg:https://emma-und-co.de/wp-content/uploads/Emma_Veranstaltungsbild_Applaus-Applaus_2.jpg
END:VEVENT
BEGIN:VEVENT
DTSTART;TZID=Europe/Berlin:20221022T193000
DTEND;TZID=Europe/Berlin:20221022T193000
DTSTAMP:20260422T043125
CREATED:20221010T142900Z
LAST-MODIFIED:20221018T095029Z
UID:3038-1666467000-1666467000@emma-und-co.de
SUMMARY:KARL HEINZ - Ich mache morgens das Fenster auf.
DESCRIPTION:Türen auf. Gäs­te rein.KARL HEINZ — Ich mache mor­gens das Fens­ter auf.von K.-H. BöllingIst er ver­wirrt? Ein Idi­ot? Eigent­lich nicht. Eigent­lich ist Karl-Heinz ganz nor­mal – sanft\, freund­lich\, unschul­dig. Wenn da bloß nicht sei­ne Obses­sio­nen wären. Vor allem die­se: jeden Mor­gen muss er das Fens­ter sei­ner Woh­nung öff­nen. Sperrangelweit.Es geht nicht anders\, er muss es tun – zwang­haft\, getrie­ben uner­bitt­lich. Und dann dau­ert es nicht lan­ge\, bis sei­ne Mut­ter das Fens­ter wie­der schließt. Obwohl die auf dem Fried­hof liegt\, in einem Sarg\, in den längst die Erde ein­ge­bro­chen ist. Das weiß Karl-Heinz ganz genau. Und doch ist sie da\, greif­bar\, leben­dig – sie schimpft mit ihm und jam­mert\, mur­melt und krächzt und grinst ihn an. Soll das Fens­ter offen­ste­hen? Muss es geschlos­sen sein? Ein ewi­ges Hin und Her\, ein Auf und Zu\, ein Für und Wider. Karl-Heinz und sei­ne Mut­ter! Auf immer mit­ein­an­der ver­wo­ben in ihrem irr­wit­zi­gen Tanz umein­an­der\, komisch und tra­gisch zugleich. Und so weit nicht ent­fernt von unser aller Obses­sio­nen\, End­los­schlei­fen\, Käfigen. \nDen lie­bens­wer­ten\, den lächer­li­chen und den todernsten. \nRegie und Text­ein­rich­tung: ULRICH LAM­PEN (u.a. Hör­spiel-Autor\, Regis­seur\, SWR\, HR\, BR und Deutsch­land Radio) \nSpiel: CHRIS­TI­AN KLI­SCHAT (u.a. Staats­thea­ter Wies­ba­den\, Natio­nal­thea­ter Wei­mar\, Hans-Otto-Thea­ter Potsdam) \nTicket­preis: 10 € (ermäßigt)/ 15 € (regulär)/ 20 € (Soli-Ticket)Tickets reser­vie­renEmma & Co. – die Theaterwerkstatt\nGoe­ben­stra­ße 19 Hin­ter­haus\, Wiesbaden
URL:https://emma-und-co.de/veranstaltungen/karl-heinz-ich-mache-morgens-das-fenster-auf/
ATTACH;FMTTYPE=image/jpeg:https://emma-und-co.de/wp-content/uploads/Emma_Veranstaltungsbild_Karl_Heinz.jpg
END:VEVENT
END:VCALENDAR