BEGIN:VCALENDAR
VERSION:2.0
PRODID:-//Emma &amp; Co. – die Theaterwerkstatt - ECPv6.8.0//NONSGML v1.0//EN
CALSCALE:GREGORIAN
METHOD:PUBLISH
X-ORIGINAL-URL:https://emma-und-co.de
X-WR-CALDESC:Veranstaltungen für Emma &amp; Co. – die Theaterwerkstatt
REFRESH-INTERVAL;VALUE=DURATION:PT1H
X-Robots-Tag:noindex
X-PUBLISHED-TTL:PT1H
BEGIN:VTIMEZONE
TZID:Europe/Berlin
BEGIN:DAYLIGHT
TZOFFSETFROM:+0100
TZOFFSETTO:+0200
TZNAME:CEST
DTSTART:20230326T010000
END:DAYLIGHT
BEGIN:STANDARD
TZOFFSETFROM:+0200
TZOFFSETTO:+0100
TZNAME:CET
DTSTART:20231029T010000
END:STANDARD
END:VTIMEZONE
BEGIN:VEVENT
DTSTART;TZID=Europe/Berlin:20230611T110000
DTEND;TZID=Europe/Berlin:20230611T130000
DTSTAMP:20260421T164359
CREATED:20230331T132632Z
LAST-MODIFIED:20230331T132632Z
UID:3669-1686481200-1686488400@emma-und-co.de
SUMMARY:LA MOVE.
DESCRIPTION:LA MOVE.Tanz Kör­per SelbstwirksamkeitWork­shop­rei­he für FrauenMöch­test Du dich im Tanz ent­de­cken\, etwas Neu­es über dich erfah­ren und dei­neLebens­er­fah­run­gen mit ande­ren tei­len?LA MOVE ist eine Pra­xis des gemein­sa­men Tan­zens\, Bewe­gens\, Zuhö­rens\, Erzäh­lens und krea­ti­ven Gestal­tens. Wir wer­den indi­vi­du­el­les Kör­per­wis­sen erfor­schen und Kör­per­ge­schich­ten aus­tau­schen\, um mit­ein­an­der und von­ein­an­der zu ler­nen.\n\n \nLA MOVE rich­tet sich an Frau­en jeden Alters\, die Lust und Inter­es­se an einem beweg­ten und krea­ti­ven Pro­zess haben. Für die Teil­nah­me sindkei­ne beson­de­ren Vor­aus­set­zun­gen nötig.\nDie Idee für LA MOVE als regel­mä­ßi­ge Pra­xis des Tan­zens und Aus­tau­sches unter Frau­en wur­de im Rah­men des Implan­tie­ren Fes­ti­vals 2022/23 aus unse­rem Bedürf­nis her­aus ent­wi­ckelt\, Kör­per­ge­schich­ten zu tei­len\, um mit­ein­an­der und von­ein­an­der zu ler­nen. Die­sen Pro­zess möch­ten wir ger­ne fortsetzen.Ter­mi­neSo. 16.04.2023 // 11–13 UhrSo. 11.06.2023 // 11–13 UhrSo. 02.07.2023 // 11–13 UhrKos­ten:\n90€ nor­mal // 65€ ermä­ßigt für den gesam­ten Zyklus \n35€ // 25€ pro Einzel-Workshop\nAnmel­dungboompinkblau@gmail.comDie Teil­neh­me­rin­nen­zahl ist auf­grund der Platz­ka­pa­zi­tät des Rau­mes begrenzt.Emma & Co – die Theaterwerkstatt\,\nGoe­ben­stra­ße 19 Hin­ter­haus\, Wiesbaden Wir bit­ten die Besucher*innen sich vor­her zu tes­ten. Wer an Coro­na oder irgend­wie anders anste­ckend erkrankt ist\, bleibt bit­te Zuhause.
URL:https://emma-und-co.de/veranstaltungen/la-move-tanz-koerper-selbstwirksamkeit-11-06-2023/
LOCATION:Emma & Co. – die Theaterwerkstatt\, Goebenstraße 19\, Wiesbaden\, 65195\, Deutschland
CATEGORIES:Emma & Co.
ATTACH;FMTTYPE=image/jpeg:https://emma-und-co.de/wp-content/uploads/Emma_Veranstaltungsbild_2023_La-Move.jpg
END:VEVENT
BEGIN:VEVENT
DTSTART;TZID=Europe/Berlin:20230617T110000
DTEND;TZID=Europe/Berlin:20230617T130000
DTSTAMP:20260421T164359
CREATED:20230331T083345Z
LAST-MODIFIED:20230412T063347Z
UID:3633-1686999600-1687006800@emma-und-co.de
SUMMARY:TANZSESSION mit Mareike Buchmann
DESCRIPTION:TANZ­SES­SI­ON mit Marei­ke BuchmannTANZ SES­SI­ONS basie­ren auf mei­ner Pra­xis der tän­ze­ri­schen Bewegungsforschung:\nTANZ SES­SI­ONS laden ein zu Impro­vi­sa­ti­on und Gestaltung.\nTANZ SES­SI­ONS sind eine Kom­bi­na­ti­on unter­schied­li­cher Ener­gien\, Rhyth­men\, Geschwin­dig­kei­ten und Dyna­mi­ken. Herz­schlag\, Atem\, Musik\nTANZ SES­SI­ONS sind Rei­sen in das inne­re des Kör­pers. Intim\, per­sön­lich\, lei­se\, behutsam.\nTANZ SES­SI­ONS sind geteil­te Rei­sen\, die zu Begeg­nun­gen im Raum anstiften.\nTANZ SES­SI­ONS ver­fei­nern die Wahr­neh­mung für erleb­te Zustände.\nTANZ SES­SI­ONS akti­vie­ren Kör­per­wis­sen\, Kör­per­spü­ren\, Körperleben.\nTANZ SES­SI­ONS machen Freude.\nTANZ SES­SI­ONS kom­bi­nie­ren die tän­ze­ri­schen Pro­zes­se mit frei­em Schreiben/Zeichen\, um den inne­ren Bewe­gungs­spu­ren im Außen nachzuspüren.Lei­tung:\nMarei­ke Buch­mann arbei­tet als frei­schaf­fen­de Per­for­mance­künst­le­rin mit den Schwer­punk­ten Tanz und Bewe­gungs­for­schung. Sie lei­tet das IDA FLUX Ensem­ble und ist seit Jah­ren in der Tanz­ver­mitt­lung\, For­schung und Leh­re tätig.\nTanz ver­steht Marei­ke in einem erwei­ter­ten Sin­ne\, als Aus­druck mit dem gan­zen Kör­per und in all sei­nen Aus­drucks­mög­lich­kei­ten. Tan­zen ist das Erle­ben von atmen\, ste­hen und gehen genau­so wie das Aus­kos­ten ener­ge­ti­scher und inten­si­ver Bewegungsqualitäten.Im Mit­tel­punkt all ihrer For­ma­te steht daher ein expe­ri­men­tel­ler und for­schen­der Ansatz\, der die Teilnehmer*innen dazu ein­lädt\, ihre eige­nen Bewe­gun­gen im Tanz zu ergrün­den und zu erleben.Sym­so­maMarei­ke BuchmannFOTO­CREDITS: DE-DA PRODUCTIONKos­ten:30 Euro // ermä­ßigt 20 EuroWir bit­ten die Besucher*innen sich vor­her zu tes­ten. Wer an Coro­na oder irgend­wie anders anste­ckend erkrankt ist\, bleibt bit­te Zuhause.Sa. 17.06.2023 // 11–13 UhrEmma & Co – die Theaterwerkstatt\,\nGoe­ben­stra­ße 19 Hin­ter­haus\, Wiesbaden
URL:https://emma-und-co.de/veranstaltungen/tanzsession-mit-mareike-buchmann-06-17-2023/
LOCATION:Emma & Co. – die Theaterwerkstatt\, Goebenstraße 19\, Wiesbaden\, 65195\, Deutschland
CATEGORIES:Emma & Co.
ATTACH;FMTTYPE=image/jpeg:https://emma-und-co.de/wp-content/uploads/Emma_Veranstaltungsbild_Tanzsession.jpg
END:VEVENT
BEGIN:VEVENT
DTSTART;TZID=Europe/Berlin:20230618T110000
DTEND;TZID=Europe/Berlin:20230618T160000
DTSTAMP:20260421T164359
CREATED:20230331T090833Z
LAST-MODIFIED:20230331T112449Z
UID:3637-1687086000-1687104000@emma-und-co.de
SUMMARY:Ein Sonntag mit Yoga und Meditation
DESCRIPTION:Ein Sonn­tag mit Yoga und MeditationAcht­sam­keit aus BewegungLei­tung: Katha­ri­na Jäsch­ke\, Yoga­leh­re­rin BDY/EYU \nYoga nach Maß in Wiesbaden Beim Yoga steht im Mit­tel­punkt das Bemü­hen\, im Üben Kör­per\, Atem und Geist auf har­mo­ni­sche Wei­se mit­ein­an­der zu ver­bin­den. Solch ein Üben schafft einen Rah­men für beson­de­re Erfah­run­gen mit sich und dem eige­nen Kör­per die Grund­la­ge für eine wach­sen­de Fähig­keit sind\, gut mit ihm umzu­ge­hen. Das Beson­de­re am Yoga ist\, dass die­se Acht­sam­keit aus Bewe­gung und Akti­vi­tät her­aus ent­wi­ckelt wird. \nKur­ze Impul­se aus dem Yoga Sūtra beglei­ten das prak­ti­sche Üben. Anmel­dung und Information:  \nKatha­ri­na Jäsch­ke\, Yoga­leh­re­rin BDY/EYUE‑Mail: yoganachmass@t‑online.de Tele­fon: 0151 62600882 yoganachmasswiesbaden.deKos­ten:75 EuroWir bit­ten die Besucher*innen sich vor­her zu tes­ten. Wer an Coro­na oder irgend­wie anders anste­ckend erkrankt ist\, bleibt bit­te Zuhause.So. 18.06.2023 // 11–16 UhrEmma & Co – die Theaterwerkstatt\,\nGoe­ben­stra­ße 19 Hin­ter­haus\, Wiesbaden
URL:https://emma-und-co.de/veranstaltungen/ein-sonntag-mit-yoga-und-meditation-18-06-2023/
LOCATION:Emma & Co. – die Theaterwerkstatt\, Goebenstraße 19\, Wiesbaden\, 65195\, Deutschland
CATEGORIES:Emma & Co.
ATTACH;FMTTYPE=image/jpeg:https://emma-und-co.de/wp-content/uploads/Emma_Veranstaltungsbild_2023_Yoga-nach-Mass.jpg
END:VEVENT
BEGIN:VEVENT
DTSTART;TZID=Europe/Berlin:20230625T000000
DTEND;TZID=Europe/Berlin:20230625T000000
DTSTAMP:20260421T164359
CREATED:20230614T201841Z
LAST-MODIFIED:20230614T211135Z
UID:3770-1687651200-1687651200@emma-und-co.de
SUMMARY:Ferienprogramm 2023
DESCRIPTION:ACH­TUNG: Anmel­dung nur vom 12.–25.06.2023 möglich!Jetzt komm ich! – Ab auf die Bühne#85 Wo. 3: Jetzt komm ich! – Ab auf die Bühne \nMo. 07.08.23 — Fr. 11.08.23 / 10:00 — 15:00 Uhr #112 Wo. 4: Jetzt komm ich! – Ab auf die Bühne \nMo. 14.08.23 — Fr. 18.08.23 / 10:00 — 15:00 Uhr Nur für weib­li­che Teil­neh­me­rin­nen im Alter von 11–14 Jahren.Schau­spiel war schon immer dein Traum\, dei­ne Lei­den­schaft? Du möch­test dich ein­fach mal aus­pro­bie­ren? In die­ser Woche zei­gen wir dir und ande­ren Mäd­chen die Grund­la­gen des Thea­ter­spiels\, Impro­vi­sa­ti­on\, Kör­per- und Stimm­ar­beit und Auf­bau einer Geschichte.\n\nWer die Büh­ne liebt oder zum ers­ten Mal ken­nen­ler­nen möch­te\, ist hier genau richtig.Anmel­dung & InfosFoto­credits von Hul­ki Okan Tabak auf UnsplashEin Pro­gramm vom Amt für Sozia­le Arbeit / Abtei­lung Jugend­ar­beit / wi&you Schö­ne Ferien
URL:https://emma-und-co.de/veranstaltungen/ferienprogramm-2023/
LOCATION:Emma & Co. – die Theaterwerkstatt\, Goebenstraße 19\, Wiesbaden\, 65195\, Deutschland
CATEGORIES:Emma & Co.
ATTACH;FMTTYPE=image/jpeg:https://emma-und-co.de/wp-content/uploads/Emma_Jetzt-komm-ich_2023.jpg
END:VEVENT
BEGIN:VEVENT
DTSTART;TZID=Europe/Berlin:20230625T160000
DTEND;TZID=Europe/Berlin:20230625T160000
DTSTAMP:20260421T164359
CREATED:20230523T213036Z
LAST-MODIFIED:20230523T215031Z
UID:3738-1687708800-1687708800@emma-und-co.de
SUMMARY:Wiesbadener Bücherfest
DESCRIPTION:Wies­ba­de­ner BücherfestMit Jut­ta Schu­bert\, Ralph Roger Glöck­ler\, Peter H.E. Gogo­lin und Alex­an­der PfeifferVier Autor*innen aus Wies­ba­den und der Regi­on stel­len ihre neu­es­ten Bücher in einer gemein­sa­men Lesung vor.Vier Autor*innen aus Wies­ba­den und der Regi­on stel­len ihre neu­es­ten Bücher in einer gemein­sa­men Lesung vor.Es gibt Kost­pro­ben aus den Büchern\, einen Bücher­tisch und Autor*innen zum Anfas­sen\, die im Anschluss auch ger­ne noch Fra­gen des Publi­kums beantworten.Jut­ta Schu­bert mode­riert das Pro­gramm\, das inter­es­san­te Ein­bli­cke in die Wer­ke der ein­ge­la­de­nen Autor*innen ver­spricht. Ein kurz­wei­li­ges Pro­gramm über die Facet­ten des Lebens und kur­ze Erzählformen.Der in Wies­ba­den leben­de Autor Peter H. E. Gogo­lin liest aus sei­nem neu­en Band mit rea­lis­ti­schen Erzäh­lun­gen\, „Mor­gen ist ein ande­rer Tag“\, der beim Kul­tur­ma­schi­nen Ver­lag erschie­nen ist.Der Wies­ba­de­ner Autor Alex­an­der Pfeif­fer nimmt die Zuhö­ren­den mit auf eine Rei­se durch die Nacht und stellt Geschich­ten aus sei­nem Buch „Mit­ter­nachts­sym­pho­nie“ vor\, das bei Edi­ti­on Out­bird herauskam.Der Frank­fur­ter Autor Ralph Roger Glöck­ler ent­führt das Publi­kum in die Welt der Lyrik mit einer Samm­lung von Gedich­ten aus fünf­zig Schaf­fens­jah­ren\, die unter dem Titel „Kin­der­däm­me­rung“ vom Elfen­bein Ver­lag her­aus­ge­ge­ben wurden.Jut­ta Schu­bert stellt ihren neu­en Erzähl­band „Der Mond ist ein Licht in der Nacht“ mit Geschich­ten über Abschied und Neu­be­ginn vor\, erschie­nen beim Kul­tur­ma­schi­nen Verlag.Die Ver­an­stal­tung wird aus Mit­teln des Pro­gramms Neu­start Kul­tur des PEN-Zen­trums Deutsch­land gefördert.Kos­ten:Der Ein­tritt ist frei.So. 25.06.2023 // um 16 UhrEmma & Co – die Theaterwerkstatt\,\nGoe­ben­stra­ße 19 Hin­ter­haus\, Wiesbaden
URL:https://emma-und-co.de/veranstaltungen/wiesbadener-buecherfest/
LOCATION:Emma & Co. – die Theaterwerkstatt\, Goebenstraße 19\, Wiesbaden\, 65195\, Deutschland
CATEGORIES:Emma & Co.
ATTACH;FMTTYPE=image/jpeg:https://emma-und-co.de/wp-content/uploads/Emma_Wiesbadener-Buecherfest_2023.jpg
END:VEVENT
END:VCALENDAR