BEGIN:VCALENDAR
VERSION:2.0
PRODID:-//Emma &amp; Co. – die Theaterwerkstatt - ECPv6.8.0//NONSGML v1.0//EN
CALSCALE:GREGORIAN
METHOD:PUBLISH
X-ORIGINAL-URL:https://emma-und-co.de
X-WR-CALDESC:Veranstaltungen für Emma &amp; Co. – die Theaterwerkstatt
REFRESH-INTERVAL;VALUE=DURATION:PT1H
X-Robots-Tag:noindex
X-PUBLISHED-TTL:PT1H
BEGIN:VTIMEZONE
TZID:Europe/Berlin
BEGIN:DAYLIGHT
TZOFFSETFROM:+0100
TZOFFSETTO:+0200
TZNAME:CEST
DTSTART:20230326T010000
END:DAYLIGHT
BEGIN:STANDARD
TZOFFSETFROM:+0200
TZOFFSETTO:+0100
TZNAME:CET
DTSTART:20231029T010000
END:STANDARD
END:VTIMEZONE
BEGIN:VEVENT
DTSTART;TZID=Europe/Berlin:20230909T110000
DTEND;TZID=Europe/Berlin:20230909T130000
DTSTAMP:20260421T125452
CREATED:20230815T132505Z
LAST-MODIFIED:20230815T135838Z
UID:3808-1694257200-1694264400@emma-und-co.de
SUMMARY:TANZSESSION mit Mareike Buchmann
DESCRIPTION:TANZ­SES­SI­ON mit Marei­ke BuchmannTANZ SES­SI­ONS basie­ren auf mei­ner Pra­xis der tän­ze­ri­schen Bewegungsforschung:\nTANZ SES­SI­ONS laden ein zu Impro­vi­sa­ti­on und Gestaltung.\nTANZ SES­SI­ONS sind eine Kom­bi­na­ti­on unter­schied­li­cher Ener­gien\, Rhyth­men\, Geschwin­dig­kei­ten und Dyna­mi­ken. Herz­schlag\, Atem\, Musik\nTANZ SES­SI­ONS sind Rei­sen in das inne­re des Kör­pers. Intim\, per­sön­lich\, lei­se\, behutsam.\nTANZ SES­SI­ONS sind geteil­te Rei­sen\, die zu Begeg­nun­gen im Raum anstiften.\nTANZ SES­SI­ONS ver­fei­nern die Wahr­neh­mung für erleb­te Zustände.\nTANZ SES­SI­ONS akti­vie­ren Kör­per­wis­sen\, Kör­per­spü­ren\, Körperleben.\nTANZ SES­SI­ONS machen Freude.\nTANZ SES­SI­ONS kom­bi­nie­ren die tän­ze­ri­schen Pro­zes­se mit frei­em Schreiben/Zeichen\, um den inne­ren Bewe­gungs­spu­ren im Außen nachzuspüren. \nMarei­ke Buch­mann arbei­tet als frei­schaf­fen­de Per­for­mance­künst­le­rin mit den Schwer­punk­ten Tanz und Bewe­gungs­for­schung. Sie lei­tet das IDA FLUX Ensem­ble und ist seit Jah­ren in der Tanz­ver­mitt­lung\, For­schung und Leh­re tätig.\nTanz ver­steht Marei­ke in einem erwei­ter­ten Sin­ne\, als Aus­druck mit dem gan­zen Kör­per und in all sei­nen Aus­drucks­mög­lich­kei­ten. Tan­zen ist das Erle­ben von atmen\, ste­hen und gehen genau­so wie das Aus­kos­ten ener­ge­ti­scher und inten­si­ver Bewegungsqualitäten.Im Mit­tel­punkt all ihrer For­ma­te steht daher ein expe­ri­men­tel­ler und for­schen­der Ansatz\, der die Teilnehmer*innen dazu ein­lädt\, ihre eige­nen Bewe­gun­gen im Tanz zu ergrün­den und zu erleben. \nSym­so­maMarei­ke BuchmannFOTO­CREDITS: DE-DA PRODUCTIONKos­ten:30 Euro // ermä­ßigt 20 EuroSa. 09.09.2023 // 11–13 UhrEmma & Co – die Theaterwerkstatt\,\nGoe­ben­stra­ße 19 Hin­ter­haus\, Wiesbaden
URL:https://emma-und-co.de/veranstaltungen/tanzsession-mit-mareike-buchmann-2023-09-09/
LOCATION:Emma & Co. – die Theaterwerkstatt\, Goebenstraße 19\, Wiesbaden\, 65195\, Deutschland
CATEGORIES:Emma & Co.
ATTACH;FMTTYPE=image/jpeg:https://emma-und-co.de/wp-content/uploads/Emma_Veranstaltungsbild_Tanzsession.jpg
END:VEVENT
BEGIN:VEVENT
DTSTART;TZID=Europe/Berlin:20230928T193000
DTEND;TZID=Europe/Berlin:20230928T193000
DTSTAMP:20260421T125452
CREATED:20230921T093559Z
LAST-MODIFIED:20230925T082529Z
UID:3869-1695929400-1695929400@emma-und-co.de
SUMMARY:Die Macht der Entscheidung
DESCRIPTION:Kul­tur­ta­ge Westend Kurz­film und LesungDie Macht der EntscheidungDer Kurz­spiel­film und die Lesung beleuch­ten das Enga­ge­ment der Men­schen in und um die Berg­kir­che und die Beken­nen­de Kir­che in Wies­ba­den. Er zeigt ihre per­sön­li­chen Schick­sa­le vor dem Beginn des Zwei­ten Weltkrieges.Die Macht der Ent­schei­dung- Kurz­film 2022 — Anfang der drei­ßi­ger Jah­re in Wies­ba­den: In der Berg­kir­che wird ein neu­er Pfar­rer der Deutsch-Chris­ten ein­ge­setzt\, der die wider­stän­di­ge Gemein­de spal­ten soll. Franz-Lud­wig von Ber­nus\, Pfar­rer der Beken­nen­den Kir­che\, leis­tet ihm Wider­stand. Die jun­ge frisch ver­lieb­te Else ist auf der Suche nach Arbeit. Rudi\, ihr Freund\, hat sei­ne eige­ne Vor­stel­lung von einer deut­schen Frau. Und auch Hein­rich\, ein Kon­fir­mand\, bekommt den Druck durch die poli­ti­schen Ver­än­de­run­gen zu spü­ren. Wie wer­den sie sich entscheiden?Frei­es Thea­ter Wies­ba­den pro­du­zier­te die­sen Kurz­film\, der im August 2021 an vie­len ori­gi­na­len Schau­plät­zen in der Lan­des­haupt­stadt Wies­ba­den gedreht wur­de. Basie­rend auf Augen­zeu­gen­be­rich­ten und dem über Jah­re zusam­men­ge­tra­ge­nen Recher­che­ma­te­ri­al des Berg­kir­chen­pfar­rers Mar­kus Nett soll die­ser Film das Andenken an den Wider­stand im Klei­nen bewah­ren. Er soll nicht nur erin­nern\, son­dern auch ermu­ti­gen\, aktu­ell auf rech­te Ten­den­zen und Frem­den­hass zu reagieren.(Pho­to­credits eye take your picture)Aus­ge­zeich­net durch „kul­tur­Mut“ – die Crowd­fun­ding-Platt­form von Aven­tis Foun­da­ti­on und Kul­tur­fonds Frank­furt Rhein­Main. Der Film wur­de geför­dert durch das Kul­tur­amt der Lan­des­haupt­stadt Wies­ba­den und der Nas­pa Stiftung. \nDer Ein­tritt ist frei.Do. 28.09.2023 // 19:30 UhrEmma & Co – die Theaterwerkstatt\,\nGoe­ben­stra­ße 19 Hin­ter­haus\, Wiesbaden
URL:https://emma-und-co.de/veranstaltungen/die-macht-der-entscheidung-28-09-2023/
ATTACH;FMTTYPE=image/jpeg:https://emma-und-co.de/wp-content/uploads/Emma_Veranstaltungsbild_Die_Macht_der_Entscheidung2022.jpg
END:VEVENT
BEGIN:VEVENT
DTSTART;TZID=Europe/Berlin:20230930T193000
DTEND;TZID=Europe/Berlin:20230930T193000
DTSTAMP:20260421T125452
CREATED:20230925T095439Z
LAST-MODIFIED:20230925T120333Z
UID:3880-1696102200-1696102200@emma-und-co.de
SUMMARY:laute(r) Frauen
DESCRIPTION:- Kul­tur­ta­ge Westend -laute(r) Frau­enDes­de­mo­na\, Lysis­tra­te und die über­for­der­te Mut­ter von neben an: Was haben sie alle gemein­sam? Sie sind unge­hör­te Frauen!\n»Laute(r) Frau­en« gibt ihnen eine Stim­me. Die Tex­te sind voll furio­ser Kraft und mora­li­scher Stärke. »Laute(r) Frau­en« gibt legen­dä­ren Frau­en­ge­stal­ten aus Lite­ra­tur\, Mythos und Geschich­te eine Stim­me\, aber auch die über­for­der­te Mut­ter und die älte­re allein­ste­hen­de Dame von neben­an feh­len nicht. Ent­stan­den ist ein Chor star­ker Frau­en: mal zor­nig und auf­säs­sig\, mal weh­mü­tig und zärtlich. \nNach dem gro­ßen Erfolg und meh­re­ren Fes­ti­val­ein­la­dun­gen von »#dich­ter­lie­be« hat sich das Ensem­ble um Bea­te Krist vor­ge­nom­men uner­hört-unge­hör­ten Frau­en eine Stim­me zu geben. Den Mono­lo­gen mischen sie wei­te­re Tex­te\, Lie­der und Kla­vier­stü­cke bei und so ent­steht ein inter­dis­zi­pli­nä­rer Thea­ter­abend zwi­schen Lied\, Gesang und Schau­spiel — gestal­tet von 3D-amen. Auf der Büh­ne spielt Bea­te Krist den Groß­teil der Mono­lo­ge. Die Sopra­nis­tin Lisa Rau berei­chert das Pro­gramm mit Lie­dern\, beglei­tet wird sie von Kat­rin Aldorf am Kla­vier. Regie führ­te Julia­na Fuhrmann. \nDurch die Mischung der Tex­te und Lie­der ergibt sich eine dich­te\, mal amü­san­te\, mal nach­denk­lich stim­men­de Col­la­ge. Ent­stan­den ist ein eben­so enga­gier­ter wie kunst­vol­ler Theaterabend.Sa. 30.09.2023 // 19:30 UhrEmma & Co. — die TheaterwerkstattGoe­ben­stra­ße 19\, 65196 WiesbadenEin­tritt:15€Ermä­ßigt 10€Soli 20€
URL:https://emma-und-co.de/veranstaltungen/laute-r-frauen_30-09-2023/
CATEGORIES:Emma & Co.
ATTACH;FMTTYPE=image/jpeg:https://emma-und-co.de/wp-content/uploads/Emma_lauter-frauen_2023.jpg
END:VEVENT
END:VCALENDAR