BEGIN:VCALENDAR
VERSION:2.0
PRODID:-//Emma &amp; Co. – die Theaterwerkstatt - ECPv6.8.0//NONSGML v1.0//EN
CALSCALE:GREGORIAN
METHOD:PUBLISH
X-WR-CALNAME:Emma &amp; Co. – die Theaterwerkstatt
X-ORIGINAL-URL:https://emma-und-co.de
X-WR-CALDESC:Veranstaltungen für Emma &amp; Co. – die Theaterwerkstatt
REFRESH-INTERVAL;VALUE=DURATION:PT1H
X-Robots-Tag:noindex
X-PUBLISHED-TTL:PT1H
BEGIN:VTIMEZONE
TZID:Europe/Berlin
BEGIN:DAYLIGHT
TZOFFSETFROM:+0100
TZOFFSETTO:+0200
TZNAME:CEST
DTSTART:20260329T010000
END:DAYLIGHT
BEGIN:STANDARD
TZOFFSETFROM:+0200
TZOFFSETTO:+0100
TZNAME:CET
DTSTART:20261025T010000
END:STANDARD
END:VTIMEZONE
BEGIN:VEVENT
DTSTART;TZID=Europe/Berlin:20260416T190000
DTEND;TZID=Europe/Berlin:20260625T210000
DTSTAMP:20260419T222445
CREATED:20260205T210022Z
LAST-MODIFIED:20260209T094114Z
UID:5039-1776366000-1782421200@emma-und-co.de
SUMMARY:PERSONNAGE II ǀ Schauspiel-Workshop
DESCRIPTION:Das Ange­bot rich­tet sich Men­schen\, die an einem leben­di­gen\, emo­tio­na­len und authen­ti­schen Aus­druck auf der Büh­ne arbei­ten wollen.Schau­spiel-Work­shopPER­SON­NA­GE IIDer Weg zur Rol­le — Schau­spiel­trai­ning vom Feins­ten zur Ent­wick­lung sei­nes eige­nen emo­tio­na­len Aus­drucks auf der Büh­ne. Ob es dich auf die Thea­ter­büh­ne oder vor die Kame­ra zieht\, wir wer­den auf spie­le­ri­sche Wei­se das Ver­trau­en in dich und dei­ne schau­spie­le­ri­sche Intui­ti­on zu stär­ken. Wir tau­chen ein in die Schau­spiel­me­tho­dik von Sta­nis­law­ski\, Strasberg\, Meis­ner und des fran­zö­si­schen thé­at­re cor­po­rel. Denn „wenn man etwas auf der Büh­ne tut\, dann tut man es wirk­lich\, anstatt nur so zu tun\, als wür­de man es tun“ (Meis­ner).Die Teil­nah­me­ge­bühr beträgt 200\,00 €. Infos und Anmel­dung unter tickets@emma-und-co.de\nOli­ver Klau­ki­en lei­tet den Work­shop. Er arbei­tet als Schau­spie­ler und Regis­seur in der frei­en Thea­ter­sze­ne. Aus­bil­dung an der Eco­le de Mime et clow­ne du cor­beau blanc \n16.04. & 23.04. & 07.05. & 21.05. & 28.05. & 11.06. & 18.06. & 25.06.2026 ǀ 8 Aben­de je 2 Std | 19:00 ‑21:00 Uhr Beginn des Work­shops 16.04.2026 | Wei­te­re Ter­mi­ne 16.04. & 23.04. & 07.05. & 21.05. & 28.05. & 11.06. & 18.06. & 25.06.2026 ǀ 19:00 ‑21:00 Uhr Emma — die TheaterwerkstattBlü­cher­platz 3 —  65195 WiesbadenEin­tritt:200\,00 € Teil­nah­me­ge­bühr | Infos und Anmel­dung unter tickets@emma-und-co.de
URL:https://emma-und-co.de/veranstaltungen/personnage-i-%c7%80-schauspiel-workshop/
LOCATION:Emma\, die Thea­ter­werk­statt — Frei­es Thea­ter Wiesbaden\, Blücherplatz 3\, Wiesbaden\, 65195
CATEGORIES:Donnerstag,Emma & Co.,Theaterworkshop
ATTACH;FMTTYPE=image/jpeg:https://emma-und-co.de/wp-content/uploads/Oliver-Quadrat-by-eye-take-your-picture.jpg
END:VEVENT
BEGIN:VEVENT
DTSTART;TZID=Europe/Berlin:20260509T100000
DTEND;TZID=Europe/Berlin:20260509T170000
DTSTAMP:20260419T222446
CREATED:20260210T100958Z
LAST-MODIFIED:20260210T220718Z
UID:5048-1778320800-1778346000@emma-und-co.de
SUMMARY:SPIEL & AUSDRUCK ǀ Schauspiel-Workshop
DESCRIPTION:Für neu­gie­ri­ge und erfah­re­ne SpielinteressierteSchau­spiel-Work­shopSPIEL & AUSDRUCKDas Werk­zeug der Schau­spie­len­den ist der Kör­per. Der Aus­druck des Kör­pers und emo­tio­na­le Vor­gän­ge trai­nie­ren wir über Auf­merk­sam­keit\, Kör­per­be­wusst­sein und Selbst­re­flek­ti­on. Die­ser Work­shop legt sei­nen Fokus auf die­ses Bewusst­sein und die damit ver­bun­de­ne Körpersprache.Die Teil­nah­me­ge­bühr beträgt 100\,00 €. Infos und Anmel­dung unter tickets@emma-und-co.deDie Kurs­lei­te­rin Bar­ba­ra Haker arbei­tet als Schau­spie­le­rin und Regis­seu­rin in der frei­en Thea­ter­sze­ne. Außer­dem lei­tet sie das Ensem­ble Frei­es Thea­ter Wiesbaden.09.05.2026 10:00 ‑17:00 Uhr09.05.2026 10:00 ‑17:00 UhrEmma — die TheaterwerkstattBlü­cher­platz 3 —  65195 WiesbadenEin­tritt:100\,00 € Teil­nah­me­ge­bühr | Infos und Anmel­dung unter tickets@emma-und-co.de
URL:https://emma-und-co.de/veranstaltungen/spiel-ausdruck-%c7%80-schauspiel-workshop/
LOCATION:Emma\, die Thea­ter­werk­statt — Frei­es Thea­ter Wiesbaden\, Blücherplatz 3\, Wiesbaden\, 65195
CATEGORIES:Emma & Co.,Theaterworkshop
ATTACH;FMTTYPE=image/jpeg:https://emma-und-co.de/wp-content/uploads/Barbara-Quadrat-by-eye-take-your-picture.jpg
ORGANIZER;CN="Barbara Haker":MAILTO:barbara@barbarahaker.de
END:VEVENT
BEGIN:VEVENT
DTSTART;TZID=Europe/Berlin:20260522T170000
DTEND;TZID=Europe/Berlin:20260522T200000
DTSTAMP:20260419T222446
CREATED:20260401T091428Z
LAST-MODIFIED:20260401T091428Z
UID:5086-1779469200-1779480000@emma-und-co.de
SUMMARY:THEATER DER ZUKUNFT - MEIN THEATER VON MORGEN
DESCRIPTION:Lass uns ein­mal träu­men und uns vor­stel­len\, wie das Thea­ter der Zukunft aus­se­hen kann! Wie schaut es aus? Wie wird es sein? Was bie­tet Dir ein Thea­ter\, damit Du es als Teil Dei­nes Lebens erfah­ren willst?THEA­TER DER ZUKUNFT — MEIN THEA­TER VON MOR­GEN | Eine TheaterwerkstattThea­ter – ein Frei­zeit­an­ge­bot oder ein Event? Eine Uto­pie oder die Wirk­lich­keit? Lang­wei­lig und ange­staubt? Uner­reich­bar oder nah? Modern und fordernd?Was bedeu­tet Thea­ter für Dich? Jetzt.Und was wünschst Du Dir? Zukunft.Men­schen mit und ohne Thea­ter­er­fah­rung ab 30 Jah­re – Fr 22.05. 17–20 Uhr \nMen­schen mit und ohne Thea­ter­er­fah­rung 14 bis 30 Jah­re – So 24.05.2026 16–19 Uhr \nWir laden alle Gene­ra­tio­nen ein\, ein Thea­ter zu kre­ieren und öff­nen unse­re Thea­ter­werk­statt. Ein­mal reset drü­cken und dann etwas Neu­es schaf­fen. Mit Gedan­ken und Träu­men\, mit Wwrrkzeug und Mate­ri­al – ein Raum und wir. \nJede teil­neh­men­de Per­son erwar­tet ein klei­nes Dan­ke­schön. Infos & kos­ten­lo­se Anmel­dung unter tickets@emma-und-co.de.Men­schen mit und ohne Thea­ter­er­fah­rung ab 30 Jah­re – Fr 22.05. 17–20 Uhr \nMen­schen mit und ohne Thea­ter­er­fah­rung 14 bis 30 Jah­re – So 24.05.2026 16–19 Uhr Emma — die TheaterwerkstattBlü­cher­platz 3 —  65195 WiesbadenEin­tritt:Jede teil­neh­men­de Per­son erwar­tet ein klei­nes Dankeschön.Infos & kos­ten­lo­se Anmel­dung unter tickets@emma-und-co.de.
URL:https://emma-und-co.de/veranstaltungen/theater-der-zukunft-mein-theater-von-morgen/
LOCATION:Emma\, die Thea­ter­werk­statt — Frei­es Thea­ter Wiesbaden\, Blücherplatz 3\, Wiesbaden\, 65195
CATEGORIES:Emma & Co.,Theaterworkshop
ATTACH;FMTTYPE=image/jpeg:https://emma-und-co.de/wp-content/uploads/20260401_Emma_TheaterDerZukunft_Flyer_148x148mm_socialmedia.jpg
END:VEVENT
BEGIN:VEVENT
DTSTART;TZID=Europe/Berlin:20260524T160000
DTEND;TZID=Europe/Berlin:20260524T190000
DTSTAMP:20260419T222446
CREATED:20260401T091709Z
LAST-MODIFIED:20260406T210325Z
UID:5092-1779638400-1779649200@emma-und-co.de
SUMMARY:THEATER DER ZUKUNFT - MEIN THEATER VON MORGEN
DESCRIPTION:Lass uns ein­mal träu­men und uns vor­stel­len\, wie das Thea­ter der Zukunft aus­se­hen kann! Wie schaut es aus? Wie wird es sein? Was bie­tet Dir ein Thea­ter\, damit Du es als Teil Dei­nes Lebens erfah­ren willst?THEA­TER DER ZUKUNFT — MEIN THEA­TER VON MOR­GEN | Eine TheaterwerkstattThea­ter – ein Frei­zeit­an­ge­bot oder ein Event? Eine Uto­pie oder die Wirk­lich­keit? Lang­wei­lig und ange­staubt? Uner­reich­bar oder nah? Modern und fordernd?Was bedeu­tet Thea­ter für Dich? Jetzt.Und was wünschst Du Dir? Zukunft.Men­schen mit und ohne Thea­ter­er­fah­rung ab 30 Jah­re – Fr 22.05. 17–20 Uhr \nMen­schen mit und ohne Thea­ter­er­fah­rung 14 bis 30 Jah­re – So 24.05.2026 16–19 Uhr \nWir laden alle Gene­ra­tio­nen ein\, ein Thea­ter zu kre­ieren und öff­nen unse­re Thea­ter­werk­statt. Ein­mal reset drü­cken und dann etwas Neu­es schaf­fen. Mit Gedan­ken und Träu­men\, mit Wwrrkzeug und Mate­ri­al – ein Raum und wir. \nJede teil­neh­men­de Per­son erwar­tet ein klei­nes Dan­ke­schön. Infos & kos­ten­lo­se Anmel­dung unter tickets@emma-und-co.de.Men­schen mit und ohne Thea­ter­er­fah­rung 14 bis 30 Jah­re – So 24.05.2026 16–19 UhrEmma — die TheaterwerkstattBlü­cher­platz 3 —  65195 WiesbadenEin­tritt:Jede teil­neh­men­de Per­son erwar­tet ein klei­nes Dankeschön.Infos & kos­ten­lo­se Anmel­dung unter tickets@emma-und-co.de.
URL:https://emma-und-co.de/veranstaltungen/theater-der-zukunft-mein-theater-von-morgen-2/
LOCATION:Emma\, die Thea­ter­werk­statt — Frei­es Thea­ter Wiesbaden\, Blücherplatz 3\, Wiesbaden\, 65195
CATEGORIES:Emma & Co.,Theaterworkshop
ATTACH;FMTTYPE=image/jpeg:https://emma-und-co.de/wp-content/uploads/20260401_Emma_TheaterDerZukunft_Flyer_148x148mm_socialmedia.jpg
END:VEVENT
BEGIN:VEVENT
DTSTART;TZID=Europe/Berlin:20260527T193000
DTEND;TZID=Europe/Berlin:20260527T210000
DTSTAMP:20260419T222446
CREATED:20260112T181606Z
LAST-MODIFIED:20260203T080942Z
UID:5022-1779910200-1779915600@emma-und-co.de
SUMMARY:Spieleabend\, der Impro-Workshop
DESCRIPTION:Auf die Bühne-Impro-los!Der Impro-Work­shop für Neu­gie­ri­ge und FreaksSPIE­LE­ABENDAuf die Büh­ne-Impro-los! Ein Spie­le­abend für alle\, die neu­gie­rig auf Impro­thea­ter sind und für Impro-erfah­re­nen Freaks\, die Spaß am gemein­sa­men Spiel haben. 90 Minu­ten Warm-Up\, Spiel\, Spaß und neue Mit­spie­len­de. Kopf aus­schal­ten\, schei­tern und viel Humor sind an die­sem Abend die bes­te Vor­aus­set­zung gemein­sam Geschich­ten auf unse­re Bret­ter zu bringen.Wir freu­en uns über eine zuver­läs­si­ge Vor­anmel­dung unter tickets@emma-und-co.deDie Aben­de sind kein durch­ge­hen­der Kurs\, son­dern unab­hän­gig von­ein­an­der buchbar.27.05.2026 | 19:30 — 21:00 UhrEmma — die TheaterwerkstattBlü­cher­platz 3 —  65195 WiesbadenEin­tritt:15\,00 €\, zahl­bar in bar vor Beginn des WorkshopsWir freu­en uns über eine zuver­läs­si­ge Vor­anmel­dung unter tickets@emma-und-co.de.
URL:https://emma-und-co.de/veranstaltungen/spieleabend-der-impro-workshop-24/
LOCATION:Emma\, die Thea­ter­werk­statt — Frei­es Thea­ter Wiesbaden\, Blücherplatz 3\, Wiesbaden\, 65195
CATEGORIES:Emma & Co.,Theaterworkshop
ATTACH;FMTTYPE=image/jpeg:https://emma-und-co.de/wp-content/uploads/Impro33-scaled.jpg
ORGANIZER;CN="Barbara Haker":MAILTO:barbara@barbarahaker.de
END:VEVENT
END:VCALENDAR